BEGIN:VCALENDAR
VERSION:2.0
PRODID:-//Carlton Innovation School - ECPv6.15.18//NONSGML v1.0//EN
CALSCALE:GREGORIAN
METHOD:PUBLISH
X-WR-CALNAME:Carlton Innovation School
X-ORIGINAL-URL:https://spscarlton.salemk12.org
X-WR-CALDESC:Events for Carlton Innovation School
REFRESH-INTERVAL;VALUE=DURATION:PT1H
X-Robots-Tag:noindex
X-PUBLISHED-TTL:PT1H
BEGIN:VTIMEZONE
TZID:America/New_York
BEGIN:DAYLIGHT
TZOFFSETFROM:-0500
TZOFFSETTO:-0400
TZNAME:EDT
DTSTART:20240310T070000
END:DAYLIGHT
BEGIN:STANDARD
TZOFFSETFROM:-0400
TZOFFSETTO:-0500
TZNAME:EST
DTSTART:20241103T060000
END:STANDARD
BEGIN:DAYLIGHT
TZOFFSETFROM:-0500
TZOFFSETTO:-0400
TZNAME:EDT
DTSTART:20250309T070000
END:DAYLIGHT
BEGIN:STANDARD
TZOFFSETFROM:-0400
TZOFFSETTO:-0500
TZNAME:EST
DTSTART:20251102T060000
END:STANDARD
BEGIN:DAYLIGHT
TZOFFSETFROM:-0500
TZOFFSETTO:-0400
TZNAME:EDT
DTSTART:20260308T070000
END:DAYLIGHT
BEGIN:STANDARD
TZOFFSETFROM:-0400
TZOFFSETTO:-0500
TZNAME:EST
DTSTART:20261101T060000
END:STANDARD
END:VTIMEZONE
BEGIN:VEVENT
DTSTART;TZID=America/New_York:20250917T180000
DTEND;TZID=America/New_York:20250917T193000
DTSTAMP:20260420T231438
CREATED:20250829T183225Z
LAST-MODIFIED:20250917T191818Z
UID:10000835-1758132000-1758137400@spscarlton.salemk12.org
SUMMARY:Open House
DESCRIPTION:
URL:https://spscarlton.salemk12.org/event/open-house-3/
CATEGORIES:Carlton Innovation School
END:VEVENT
BEGIN:VEVENT
DTSTART;TZID=America/New_York:20250917T180000
DTEND;TZID=America/New_York:20250917T193000
DTSTAMP:20260420T231438
CREATED:20250708T150309Z
LAST-MODIFIED:20250708T150538Z
UID:10000820-1758132000-1758137400@spscarlton.salemk12.org
SUMMARY:Carlton Innovation School Open House
DESCRIPTION:
URL:https://spscarlton.salemk12.org/event/carlton-innovation-school-open-house/
LOCATION:Carlton Innovation School\, 10 Skerry St\, Salem\, MA 01970\, USA
CATEGORIES:Carlton Innovation School
END:VEVENT
BEGIN:VEVENT
DTSTART;TZID=America/New_York:20250903T083500
DTEND;TZID=America/New_York:20250903T151000
DTSTAMP:20260420T231438
CREATED:20250625T221705Z
LAST-MODIFIED:20250903T184754Z
UID:10000807-1756888500-1756912200@spscarlton.salemk12.org
SUMMARY:First Day - Kindergarten (P1)
DESCRIPTION:
URL:https://spscarlton.salemk12.org/event/first-day-kindergarten-p1/
CATEGORIES:Carlton Innovation School
END:VEVENT
BEGIN:VEVENT
DTSTART;VALUE=DATE:20250901
DTEND;VALUE=DATE:20250902
DTSTAMP:20260420T231438
CREATED:20250625T221705Z
LAST-MODIFIED:20250901T184836Z
UID:10000806-1756684800-1756771199@spscarlton.salemk12.org
SUMMARY:No School/School Closed
DESCRIPTION:
URL:https://spscarlton.salemk12.org/event/no-school-school-closed/
CATEGORIES:Carlton Innovation School
END:VEVENT
BEGIN:VEVENT
DTSTART;TZID=America/New_York:20250827T083500
DTEND;TZID=America/New_York:20250827T151000
DTSTAMP:20260420T231438
CREATED:20250625T221705Z
LAST-MODIFIED:20250827T181714Z
UID:10000805-1756283700-1756307400@spscarlton.salemk12.org
SUMMARY:First Day (Gr. 1-5) P2\,E1\,E2
DESCRIPTION:
URL:https://spscarlton.salemk12.org/event/first-day-gr-1-5-p2e1e2/
CATEGORIES:Carlton Innovation School
END:VEVENT
BEGIN:VEVENT
DTSTART;VALUE=DATE:20250617
DTEND;VALUE=DATE:20250618
DTSTAMP:20260420T231438
CREATED:20250602T170139Z
LAST-MODIFIED:20250602T170139Z
UID:10000804-1750118400-1750204799@spscarlton.salemk12.org
SUMMARY:Last Day of School for Grades 1-5
DESCRIPTION:
URL:https://spscarlton.salemk12.org/event/last-day-of-school-for-grades-1-5/
END:VEVENT
BEGIN:VEVENT
DTSTART;VALUE=DATE:20250616
DTEND;VALUE=DATE:20250617
DTSTAMP:20260420T231438
CREATED:20250602T165709Z
LAST-MODIFIED:20250602T165740Z
UID:10000803-1750032000-1750118399@spscarlton.salemk12.org
SUMMARY:Last Day of School for Kindergarten
DESCRIPTION:
URL:https://spscarlton.salemk12.org/event/last-day-of-school-for-kindergarten/
END:VEVENT
BEGIN:VEVENT
DTSTART;TZID=America/New_York:20250612T123000
DTEND;TZID=America/New_York:20250612T140000
DTSTAMP:20260420T231438
CREATED:20250311T230233Z
LAST-MODIFIED:20250611T200215Z
UID:10000801-1749731400-1749736800@spscarlton.salemk12.org
SUMMARY:5th grade moving on ceremony
DESCRIPTION:Ceremony in the Cafe
URL:https://spscarlton.salemk12.org/event/5th-grade-moving-on-ceremony/
LOCATION:Carlton Innovation School\, 10 Skerry St\, Salem\, MA\, United States
CATEGORIES:Carlton Innovation School
GEO:42.531139;-70.889834
X-APPLE-STRUCTURED-LOCATION;VALUE=URI;X-ADDRESS=Carlton Innovation School 10 Skerry St Salem MA United States;X-APPLE-RADIUS=500;X-TITLE=10 Skerry St:geo:-70.889834,42.531139
END:VEVENT
BEGIN:VEVENT
DTSTART;VALUE=DATE:20250611
DTEND;VALUE=DATE:20250612
DTSTAMP:20260420T231438
CREATED:20250311T230233Z
LAST-MODIFIED:20250611T200215Z
UID:10000800-1749600000-1749686399@spscarlton.salemk12.org
SUMMARY:Field Day Rain Date
DESCRIPTION:Date of Field Day if we cannot hold it on 6/6/25 only.
URL:https://spscarlton.salemk12.org/event/field-day-rain-date-2/
CATEGORIES:Carlton Innovation School
END:VEVENT
BEGIN:VEVENT
DTSTART;VALUE=DATE:20250606
DTEND;VALUE=DATE:20250607
DTSTAMP:20260420T231438
CREATED:20250311T230233Z
LAST-MODIFIED:20250606T193216Z
UID:10000799-1749168000-1749254399@spscarlton.salemk12.org
SUMMARY:Field Day (rain date 6/11)
DESCRIPTION:
URL:https://spscarlton.salemk12.org/event/field-day-rain-date-6-11/
CATEGORIES:Carlton Innovation School
END:VEVENT
BEGIN:VEVENT
DTSTART;TZID=America/New_York:20250605T180000
DTEND;TZID=America/New_York:20250605T193000
DTSTAMP:20260420T231438
CREATED:20250311T230233Z
LAST-MODIFIED:20250605T191814Z
UID:10000798-1749146400-1749151800@spscarlton.salemk12.org
SUMMARY:Celebration of Learning E1 and E2
DESCRIPTION:
URL:https://spscarlton.salemk12.org/event/celebration-of-learning-e1-and-e2/
CATEGORIES:Carlton Innovation School
END:VEVENT
BEGIN:VEVENT
DTSTART;TZID=America/New_York:20250604T180000
DTEND;TZID=America/New_York:20250604T193000
DTSTAMP:20260420T231438
CREATED:20250311T230233Z
LAST-MODIFIED:20250604T191815Z
UID:10000797-1749060000-1749065400@spscarlton.salemk12.org
SUMMARY:Celebration of Learning P1 and P2
DESCRIPTION:
URL:https://spscarlton.salemk12.org/event/celebration-of-learning-p1-and-p2/
CATEGORIES:Carlton Innovation School
END:VEVENT
BEGIN:VEVENT
DTSTART;VALUE=DATE:20250602
DTEND;VALUE=DATE:20250603
DTSTAMP:20260420T231438
CREATED:20240902T214808Z
LAST-MODIFIED:20250602T191710Z
UID:10000759-1748822400-1748908799@spscarlton.salemk12.org
SUMMARY:Transition Day
DESCRIPTION:by Appointment
URL:https://spscarlton.salemk12.org/event/transition-day-3/
CATEGORIES:Carlton Innovation School
END:VEVENT
BEGIN:VEVENT
DTSTART;VALUE=DATE:20250602
DTEND;VALUE=DATE:20250603
DTSTAMP:20260420T231438
CREATED:20240902T214808Z
LAST-MODIFIED:20250602T191710Z
UID:10000760-1748822400-1748908799@spscarlton.salemk12.org
SUMMARY:No School - Transition Appointments Only
DESCRIPTION:
URL:https://spscarlton.salemk12.org/event/no-school-transition-appointments-only/
CATEGORIES:Carlton Innovation School
END:VEVENT
BEGIN:VEVENT
DTSTART;VALUE=DATE:20250526
DTEND;VALUE=DATE:20250527
DTSTAMP:20260420T231438
CREATED:20240902T214808Z
LAST-MODIFIED:20250526T191705Z
UID:10000587-1748217600-1748303999@spscarlton.salemk12.org
SUMMARY:No School - Holiday
DESCRIPTION:
URL:https://spscarlton.salemk12.org/event/no-school-holiday-6/
CATEGORIES:Carlton Innovation School
END:VEVENT
BEGIN:VEVENT
DTSTART;TZID=America/New_York:20250522T173000
DTEND;TZID=America/New_York:20250522T193000
DTSTAMP:20260420T231438
CREATED:20250424T125016Z
LAST-MODIFIED:20250424T125016Z
UID:10000802-1747935000-1747942200@spscarlton.salemk12.org
SUMMARY:Student Voice Summit/See Me Student Art Installation
DESCRIPTION:
URL:https://spscarlton.salemk12.org/event/student-voice-summit-see-me-student-art-installation/
LOCATION:Peabody Essex Museum\, 161 Essex Street\, Salem\, MA\, 01970\, United States
CATEGORIES:Carlton Innovation School
END:VEVENT
BEGIN:VEVENT
DTSTART;TZID=America/New_York:20250515T183000
DTEND;TZID=America/New_York:20250515T193000
DTSTAMP:20260420T231438
CREATED:20240212T214852Z
LAST-MODIFIED:20240401T194758Z
UID:10000527-1747333800-1747337400@spscarlton.salemk12.org
SUMMARY:Carlton PTO
DESCRIPTION:
URL:https://spscarlton.salemk12.org/event/carlton-pto-32/
CATEGORIES:Carlton Innovation School
END:VEVENT
BEGIN:VEVENT
DTSTART;VALUE=DATE:20250514
DTEND;VALUE=DATE:20250515
DTSTAMP:20260420T231438
CREATED:20240902T214749Z
LAST-MODIFIED:20250514T190215Z
UID:10000586-1747180800-1747267199@spscarlton.salemk12.org
SUMMARY:Early Release - 12:05 pm
DESCRIPTION:Professional Development Day
URL:https://spscarlton.salemk12.org/event/early-release-1205-pm-6/
CATEGORIES:Carlton Innovation School
END:VEVENT
BEGIN:VEVENT
DTSTART;TZID=America/New_York:20250513T183000
DTEND;TZID=America/New_York:20250513T193000
DTSTAMP:20260420T231438
CREATED:20240311T181900Z
LAST-MODIFIED:20240807T204814Z
UID:10000541-1747161000-1747164600@spscarlton.salemk12.org
SUMMARY:Carlton PTO
DESCRIPTION:
URL:https://spscarlton.salemk12.org/event/carlton-pto-66/
CATEGORIES:Carlton Innovation School
END:VEVENT
BEGIN:VEVENT
DTSTART;VALUE=DATE:20250421
DTEND;VALUE=DATE:20250426
DTSTAMP:20260420T231438
CREATED:20240902T214749Z
LAST-MODIFIED:20250425T183217Z
UID:10000585-1745193600-1745625599@spscarlton.salemk12.org
SUMMARY:April Break
DESCRIPTION:
URL:https://spscarlton.salemk12.org/event/april-break-2/
CATEGORIES:Carlton Innovation School
END:VEVENT
BEGIN:VEVENT
DTSTART;VALUE=DATE:20250418
DTEND;VALUE=DATE:20250419
DTSTAMP:20260420T231438
CREATED:20240902T214749Z
LAST-MODIFIED:20250418T183216Z
UID:10000584-1744934400-1745020799@spscarlton.salemk12.org
SUMMARY:No School - Holiday
DESCRIPTION:
URL:https://spscarlton.salemk12.org/event/no-school-holiday-5/
CATEGORIES:Carlton Innovation School
END:VEVENT
BEGIN:VEVENT
DTSTART;TZID=America/New_York:20250417T183000
DTEND;TZID=America/New_York:20250417T193000
DTSTAMP:20260420T231438
CREATED:20240212T214852Z
LAST-MODIFIED:20240401T194747Z
UID:10000526-1744914600-1744918200@spscarlton.salemk12.org
SUMMARY:Carlton PTO
DESCRIPTION:
URL:https://spscarlton.salemk12.org/event/carlton-pto-30/
CATEGORIES:Carlton Innovation School
END:VEVENT
BEGIN:VEVENT
DTSTART;TZID=America/New_York:20250408T183000
DTEND;TZID=America/New_York:20250408T193000
DTSTAMP:20260420T231438
CREATED:20240311T181849Z
LAST-MODIFIED:20240807T204814Z
UID:10000540-1744137000-1744140600@spscarlton.salemk12.org
SUMMARY:Carlton PTO
DESCRIPTION:
URL:https://spscarlton.salemk12.org/event/carlton-pto-65/
CATEGORIES:Carlton Innovation School
END:VEVENT
BEGIN:VEVENT
DTSTART;VALUE=DATE:20250321
DTEND;VALUE=DATE:20250322
DTSTAMP:20260420T231438
CREATED:20240902T214749Z
LAST-MODIFIED:20250321T231818Z
UID:10000582-1742515200-1742601599@spscarlton.salemk12.org
SUMMARY:Early Release - 12:05pm
DESCRIPTION:
URL:https://spscarlton.salemk12.org/event/early-release-1205pm-4/
CATEGORIES:Carlton Innovation School
END:VEVENT
BEGIN:VEVENT
DTSTART;VALUE=DATE:20250321
DTEND;VALUE=DATE:20250322
DTSTAMP:20260420T231438
CREATED:20240902T214749Z
LAST-MODIFIED:20250321T231818Z
UID:10000583-1742515200-1742601599@spscarlton.salemk12.org
SUMMARY:Caregiver Conferences
DESCRIPTION:by Appointment
URL:https://spscarlton.salemk12.org/event/caregiver-conferences-4/
CATEGORIES:Carlton Innovation School
END:VEVENT
BEGIN:VEVENT
DTSTART;TZID=America/New_York:20250320T183000
DTEND;TZID=America/New_York:20250320T193000
DTSTAMP:20260420T231438
CREATED:20240212T214852Z
LAST-MODIFIED:20240507T213300Z
UID:10000524-1742495400-1742499000@spscarlton.salemk12.org
SUMMARY:Carlton PTO
DESCRIPTION:
URL:https://spscarlton.salemk12.org/event/carlton-pto-28/
CATEGORIES:Carlton Innovation School
END:VEVENT
BEGIN:VEVENT
DTSTART;VALUE=DATE:20250320
DTEND;VALUE=DATE:20250321
DTSTAMP:20260420T231438
CREATED:20240902T214749Z
LAST-MODIFIED:20250320T231815Z
UID:10000580-1742428800-1742515199@spscarlton.salemk12.org
SUMMARY:Early Release - 12:05 pm
DESCRIPTION:
URL:https://spscarlton.salemk12.org/event/early-release-1205-pm-5/
CATEGORIES:Carlton Innovation School
END:VEVENT
BEGIN:VEVENT
DTSTART;VALUE=DATE:20250320
DTEND;VALUE=DATE:20250321
DTSTAMP:20260420T231438
CREATED:20240902T214749Z
LAST-MODIFIED:20250320T231815Z
UID:10000581-1742428800-1742515199@spscarlton.salemk12.org
SUMMARY:Caregiver Conferences
DESCRIPTION:by Appointment
URL:https://spscarlton.salemk12.org/event/caregiver-conferences-3/
CATEGORIES:Carlton Innovation School
END:VEVENT
BEGIN:VEVENT
DTSTART;TZID=America/New_York:20250311T183000
DTEND;TZID=America/New_York:20250311T193000
DTSTAMP:20260420T231438
CREATED:20240311T181848Z
LAST-MODIFIED:20240807T204802Z
UID:10000539-1741717800-1741721400@spscarlton.salemk12.org
SUMMARY:Carlton PTO
DESCRIPTION:
URL:https://spscarlton.salemk12.org/event/carlton-pto-64/
CATEGORIES:Carlton Innovation School
END:VEVENT
BEGIN:VEVENT
DTSTART;TZID=America/New_York:20250310T130000
DTEND;TZID=America/New_York:20250314T134500
DTSTAMP:20260420T231438
CREATED:20250124T210233Z
LAST-MODIFIED:20250313T230216Z
UID:10000793-1741611600-1741959900@spscarlton.salemk12.org
SUMMARY:Carlton Kindergarten Tours
DESCRIPTION:
URL:https://spscarlton.salemk12.org/event/carlton-kindergarten-tours-3/
CATEGORIES:Carlton Innovation School
END:VEVENT
END:VCALENDAR