BEGIN:VCALENDAR
VERSION:2.0
PRODID:-//Carlton Innovation School - ECPv6.15.18//NONSGML v1.0//EN
CALSCALE:GREGORIAN
METHOD:PUBLISH
X-WR-CALNAME:Carlton Innovation School
X-ORIGINAL-URL:https://spscarlton.salemk12.org
X-WR-CALDESC:Events for Carlton Innovation School
REFRESH-INTERVAL;VALUE=DURATION:PT1H
X-Robots-Tag:noindex
X-PUBLISHED-TTL:PT1H
BEGIN:VTIMEZONE
TZID:America/New_York
BEGIN:DAYLIGHT
TZOFFSETFROM:-0500
TZOFFSETTO:-0400
TZNAME:EDT
DTSTART:20200308T070000
END:DAYLIGHT
BEGIN:STANDARD
TZOFFSETFROM:-0400
TZOFFSETTO:-0500
TZNAME:EST
DTSTART:20201101T060000
END:STANDARD
BEGIN:DAYLIGHT
TZOFFSETFROM:-0500
TZOFFSETTO:-0400
TZNAME:EDT
DTSTART:20210314T070000
END:DAYLIGHT
BEGIN:STANDARD
TZOFFSETFROM:-0400
TZOFFSETTO:-0500
TZNAME:EST
DTSTART:20211107T060000
END:STANDARD
BEGIN:DAYLIGHT
TZOFFSETFROM:-0500
TZOFFSETTO:-0400
TZNAME:EDT
DTSTART:20220313T070000
END:DAYLIGHT
BEGIN:STANDARD
TZOFFSETFROM:-0400
TZOFFSETTO:-0500
TZNAME:EST
DTSTART:20221106T060000
END:STANDARD
END:VTIMEZONE
BEGIN:VEVENT
DTSTART;VALUE=DATE:20211226
DTEND;VALUE=DATE:20211227
DTSTAMP:20260423T053940
CREATED:20211214T161704Z
LAST-MODIFIED:20211216T181813Z
UID:10000455-1640476800-1640563199@spscarlton.salemk12.org
SUMMARY:No School Holiday Break
DESCRIPTION:
URL:https://spscarlton.salemk12.org/event/no-school-holiday-break-5/
CATEGORIES:District
END:VEVENT
BEGIN:VEVENT
DTSTART;VALUE=DATE:20211225
DTEND;VALUE=DATE:20211226
DTSTAMP:20260423T053940
CREATED:20211214T161704Z
LAST-MODIFIED:20211216T181813Z
UID:10000457-1640390400-1640476799@spscarlton.salemk12.org
SUMMARY:No School Holiday Break
DESCRIPTION:
URL:https://spscarlton.salemk12.org/event/no-school-holiday-break-6/
CATEGORIES:District
END:VEVENT
BEGIN:VEVENT
DTSTART;VALUE=DATE:20211224
DTEND;VALUE=DATE:20220101
DTSTAMP:20260423T053940
CREATED:20211214T161704Z
LAST-MODIFIED:20211231T183215Z
UID:10000446-1640304000-1640995199@spscarlton.salemk12.org
SUMMARY:No School Holiday Break
DESCRIPTION:
URL:https://spscarlton.salemk12.org/event/no-school-holiday-break-2/
CATEGORIES:District
END:VEVENT
BEGIN:VEVENT
DTSTART;VALUE=DATE:20211223
DTEND;VALUE=DATE:20220101
DTSTAMP:20260423T053940
CREATED:20211130T225644Z
LAST-MODIFIED:20211216T181813Z
UID:10000432-1640217600-1640995199@spscarlton.salemk12.org
SUMMARY:No School Holiday Break
DESCRIPTION:
URL:https://spscarlton.salemk12.org/event/no-school-holiday-break/
CATEGORIES:Carlton Innovation School
END:VEVENT
BEGIN:VEVENT
DTSTART;VALUE=DATE:20211223
DTEND;VALUE=DATE:20211224
DTSTAMP:20260423T053940
CREATED:20211214T161704Z
LAST-MODIFIED:20211223T183214Z
UID:10000448-1640217600-1640303999@spscarlton.salemk12.org
SUMMARY:Carlton only No School
DESCRIPTION:
URL:https://spscarlton.salemk12.org/event/carlton-only-no-school/
CATEGORIES:District
END:VEVENT
BEGIN:VEVENT
DTSTART;TZID=America/New_York:20211221T190000
DTEND;TZID=America/New_York:20211221T203000
DTSTAMP:20260423T053940
CREATED:20211214T161704Z
LAST-MODIFIED:20211221T183212Z
UID:10000444-1640113200-1640118600@spscarlton.salemk12.org
SUMMARY:ALL CITY 5th grade Winter Concert
DESCRIPTION:
URL:https://spscarlton.salemk12.org/event/all-city-5th-grade-winter-concert/
CATEGORIES:District
END:VEVENT
BEGIN:VEVENT
DTSTART;TZID=America/New_York:20211220T190000
DTEND;TZID=America/New_York:20211220T210000
DTSTAMP:20260423T053940
CREATED:20211214T161704Z
LAST-MODIFIED:20211220T182507Z
UID:10000442-1640026800-1640034000@spscarlton.salemk12.org
SUMMARY:School Committee Meeting
DESCRIPTION:
URL:https://spscarlton.salemk12.org/event/school-committee-meeting/
CATEGORIES:District
END:VEVENT
BEGIN:VEVENT
DTSTART;TZID=America/New_York:20211220T190000
DTEND;TZID=America/New_York:20211220T203000
DTSTAMP:20260423T053940
CREATED:20211214T161703Z
LAST-MODIFIED:20211220T182506Z
UID:10000441-1640026800-1640032200@spscarlton.salemk12.org
SUMMARY:Salem Community Band Winter Concert
DESCRIPTION:
URL:https://spscarlton.salemk12.org/event/salem-community-band-winter-concert/
CATEGORIES:District
END:VEVENT
BEGIN:VEVENT
DTSTART;TZID=America/New_York:20211218T170000
DTEND;TZID=America/New_York:20211218T200000
DTSTAMP:20260423T053940
CREATED:20211130T225644Z
LAST-MODIFIED:20211213T193210Z
UID:10000431-1639846800-1639857600@spscarlton.salemk12.org
SUMMARY:Candy Cane Rain Date
DESCRIPTION:
URL:https://spscarlton.salemk12.org/event/candy-cane-rain-date/
LOCATION:Forest River Park\, 32 Clifton Ave\, Salem\, MA 01970\, USA
END:VEVENT
BEGIN:VEVENT
DTSTART;TZID=America/New_York:20211215T190000
DTEND;TZID=America/New_York:20211215T203000
DTSTAMP:20260423T053940
CREATED:20211214T161703Z
LAST-MODIFIED:20211215T181819Z
UID:10000440-1639594800-1639600200@spscarlton.salemk12.org
SUMMARY:SHS Winter Concert
DESCRIPTION:
URL:https://spscarlton.salemk12.org/event/shs-winter-concert/
CATEGORIES:District
END:VEVENT
BEGIN:VEVENT
DTSTART;TZID=America/New_York:20211211T170000
DTEND;TZID=America/New_York:20211211T200000
DTSTAMP:20260423T053940
CREATED:20211130T225643Z
LAST-MODIFIED:20211211T193211Z
UID:10000430-1639242000-1639252800@spscarlton.salemk12.org
SUMMARY:Candy Cane Event
DESCRIPTION:
URL:https://spscarlton.salemk12.org/event/candy-cane-event/
LOCATION:Forest River Park\, 32 Clifton Ave\, Salem\, MA 01970\, USA
END:VEVENT
BEGIN:VEVENT
DTSTART;TZID=America/New_York:20211208T180000
DTEND;TZID=America/New_York:20211208T193000
DTSTAMP:20260423T053940
CREATED:20211130T225643Z
LAST-MODIFIED:20211207T191812Z
UID:10000429-1638986400-1638991800@spscarlton.salemk12.org
SUMMARY:Parent Conferences
DESCRIPTION:
URL:https://spscarlton.salemk12.org/event/parent-conferences-2/
END:VEVENT
BEGIN:VEVENT
DTSTART;TZID=America/New_York:20211208T123000
DTEND;TZID=America/New_York:20211208T143000
DTSTAMP:20260423T053940
CREATED:20211130T225643Z
LAST-MODIFIED:20211207T191812Z
UID:10000428-1638966600-1638973800@spscarlton.salemk12.org
SUMMARY:Parent Conferences
DESCRIPTION:
URL:https://spscarlton.salemk12.org/event/parent-conferences/
END:VEVENT
END:VCALENDAR