BEGIN:VCALENDAR
VERSION:2.0
PRODID:-//Carlton Innovation School - ECPv6.15.18//NONSGML v1.0//EN
CALSCALE:GREGORIAN
METHOD:PUBLISH
X-WR-CALNAME:Carlton Innovation School
X-ORIGINAL-URL:https://spscarlton.salemk12.org
X-WR-CALDESC:Events for Carlton Innovation School
REFRESH-INTERVAL;VALUE=DURATION:PT1H
X-Robots-Tag:noindex
X-PUBLISHED-TTL:PT1H
BEGIN:VTIMEZONE
TZID:America/New_York
BEGIN:DAYLIGHT
TZOFFSETFROM:-0500
TZOFFSETTO:-0400
TZNAME:EDT
DTSTART:20240310T070000
END:DAYLIGHT
BEGIN:STANDARD
TZOFFSETFROM:-0400
TZOFFSETTO:-0500
TZNAME:EST
DTSTART:20241103T060000
END:STANDARD
BEGIN:DAYLIGHT
TZOFFSETFROM:-0500
TZOFFSETTO:-0400
TZNAME:EDT
DTSTART:20250309T070000
END:DAYLIGHT
BEGIN:STANDARD
TZOFFSETFROM:-0400
TZOFFSETTO:-0500
TZNAME:EST
DTSTART:20251102T060000
END:STANDARD
BEGIN:DAYLIGHT
TZOFFSETFROM:-0500
TZOFFSETTO:-0400
TZNAME:EDT
DTSTART:20260308T070000
END:DAYLIGHT
BEGIN:STANDARD
TZOFFSETFROM:-0400
TZOFFSETTO:-0500
TZNAME:EST
DTSTART:20261101T060000
END:STANDARD
BEGIN:DAYLIGHT
TZOFFSETFROM:-0500
TZOFFSETTO:-0400
TZNAME:EDT
DTSTART:20270314T070000
END:DAYLIGHT
BEGIN:STANDARD
TZOFFSETFROM:-0400
TZOFFSETTO:-0500
TZNAME:EST
DTSTART:20271107T060000
END:STANDARD
END:VTIMEZONE
BEGIN:VEVENT
DTSTART;TZID=America/New_York:20260114T190000
DTEND;TZID=America/New_York:20260114T200000
DTSTAMP:20260420T222409
CREATED:20260107T233203Z
LAST-MODIFIED:20260114T234710Z
UID:10000861-1768417200-1768420800@spscarlton.salemk12.org
SUMMARY:FREE WEBINAR | Helping Kids Handle Big Feelings
DESCRIPTION:https://cartwheelcare.zoom.us/webinar/register/WN_TGMHRPJgSuquXEZeZVsXkw#/registration?utm_source=Hubspot&utm_medium=promo-toolkit&utm_campaign=familywebinarjan&utm_content=mpocemail1
URL:https://spscarlton.salemk12.org/event/free-webinar-helping-kids-handle-big-feelings/
CATEGORIES:Carlton Innovation School
END:VEVENT
BEGIN:VEVENT
DTSTART;TZID=America/New_York:20260114T173000
DTEND;TZID=America/New_York:20260114T190000
DTSTAMP:20260420T222409
CREATED:20251024T203230Z
LAST-MODIFIED:20260114T234710Z
UID:10000845-1768411800-1768417200@spscarlton.salemk12.org
SUMMARY:Early Education Expo
DESCRIPTION:Snow day is January `15\, 2026
URL:https://spscarlton.salemk12.org/event/early-education-expo/
LOCATION:Collins Middle School – 29 Highland Ave.\, Salem\, MA\, United States
CATEGORIES:Carlton Innovation School
GEO:42.512946;-70.904237
END:VEVENT
BEGIN:VEVENT
DTSTART;TZID=America/New_York:20260114T134500
DTEND;TZID=America/New_York:20260114T143000
DTSTAMP:20260420T222409
CREATED:20260107T233203Z
LAST-MODIFIED:20260113T234718Z
UID:10000860-1768398300-1768401000@spscarlton.salemk12.org
SUMMARY:Instrumental Concert
DESCRIPTION:
URL:https://spscarlton.salemk12.org/event/instrumental-concert-2/
CATEGORIES:Carlton Innovation School
END:VEVENT
BEGIN:VEVENT
DTSTART;TZID=America/New_York:20260113T190000
DTEND;TZID=America/New_York:20260113T200000
DTSTAMP:20260420T222409
CREATED:20260107T233203Z
LAST-MODIFIED:20260113T234717Z
UID:10000858-1768330800-1768334400@spscarlton.salemk12.org
SUMMARY:Attendance Workshop - Spanish
DESCRIPTION:https://meet.google.com/qyp-qenq-uiy
URL:https://spscarlton.salemk12.org/event/attendance-workshop-spanish/
CATEGORIES:Carlton Innovation School
END:VEVENT
BEGIN:VEVENT
DTSTART;TZID=America/New_York:20260113T190000
DTEND;TZID=America/New_York:20260113T200000
DTSTAMP:20260420T222409
CREATED:20260107T233203Z
LAST-MODIFIED:20260113T234717Z
UID:10000857-1768330800-1768334400@spscarlton.salemk12.org
SUMMARY:Advanced (5th Grade) All City Band and Orchestra Concert
DESCRIPTION:https://cdn.smore.com/u/eefc/3eb56dea091d2a351ac23d48bbfc8466.jpeg
URL:https://spscarlton.salemk12.org/event/advanced-5th-grade-all-city-band-and-orchestra-concert/
LOCATION:Salem High School\, 77 Willson St\, Salem\, MA\, United States
CATEGORIES:Carlton Innovation School
GEO:42.506487;-70.905406
X-APPLE-STRUCTURED-LOCATION;VALUE=URI;X-ADDRESS=Salem High School 77 Willson St Salem MA United States;X-APPLE-RADIUS=500;X-TITLE=77 Willson St:geo:-70.905406,42.506487
END:VEVENT
BEGIN:VEVENT
DTSTART;TZID=America/New_York:20260113T180000
DTEND;TZID=America/New_York:20260113T190000
DTSTAMP:20260420T222409
CREATED:20260107T233203Z
LAST-MODIFIED:20260113T234717Z
UID:10000859-1768327200-1768330800@spscarlton.salemk12.org
SUMMARY:Attendance Workshop - English
DESCRIPTION:https://meet.google.com/wms-dtdp-eav
URL:https://spscarlton.salemk12.org/event/attendance-workshop-english/
CATEGORIES:Carlton Innovation School
END:VEVENT
BEGIN:VEVENT
DTSTART;TZID=America/New_York:20260110T140000
DTEND;TZID=America/New_York:20260110T170000
DTSTAMP:20260420T222409
CREATED:20251204T220214Z
LAST-MODIFIED:20260109T233206Z
UID:10000856-1768053600-1768064400@spscarlton.salemk12.org
SUMMARY:Salem 400+ Kickoff and Volunteer Fair
DESCRIPTION:https://www.salem400.org/event/volunteer-fair/ \nThis community volunteer fair brings together residents and local organizations\, creating connections that will help write Salem’s next 400 years. This dynamic\, craft fair-inspired event gives local nonprofits the perfect platform to share their mission and impact with the community. We’re looking for creative\, interactive presentations that will captivate attendees and showcase what makes your organization special.
URL:https://spscarlton.salemk12.org/event/salem-400-kickoff-and-volunteer-fair/
LOCATION:Salem High School\, 77 Willson St\, Salem\, MA\, United States
CATEGORIES:Carlton Innovation School
GEO:42.506487;-70.905406
X-APPLE-STRUCTURED-LOCATION;VALUE=URI;X-ADDRESS=Salem High School 77 Willson St Salem MA United States;X-APPLE-RADIUS=500;X-TITLE=77 Willson St:geo:-70.905406,42.506487
END:VEVENT
BEGIN:VEVENT
DTSTART;VALUE=DATE:20251229
DTEND;VALUE=DATE:20260103
DTSTAMP:20260420T222409
CREATED:20250626T221817Z
LAST-MODIFIED:20260102T231703Z
UID:10000813-1766966400-1767398399@spscarlton.salemk12.org
SUMMARY:No School - Winter Break
DESCRIPTION:Thursday\, January 1 ALL Buildings Closed
URL:https://spscarlton.salemk12.org/event/no-school-winter-break-2/
CATEGORIES:Carlton Innovation School
END:VEVENT
BEGIN:VEVENT
DTSTART;VALUE=DATE:20251225
DTEND;VALUE=DATE:20251226
DTSTAMP:20260420T222409
CREATED:20250925T191828Z
LAST-MODIFIED:20251225T230216Z
UID:10000839-1766620800-1766707199@spscarlton.salemk12.org
SUMMARY:Christmas Day
DESCRIPTION:
URL:https://spscarlton.salemk12.org/event/christmas-day/
CATEGORIES:Carlton Innovation School
END:VEVENT
BEGIN:VEVENT
DTSTART;VALUE=DATE:20251222
DTEND;VALUE=DATE:20251227
DTSTAMP:20260420T222409
CREATED:20250626T221817Z
LAST-MODIFIED:20251226T230214Z
UID:10000812-1766361600-1766793599@spscarlton.salemk12.org
SUMMARY:No School - Winter Break
DESCRIPTION:Thursday\, December 25 ALL Buildings Closed
URL:https://spscarlton.salemk12.org/event/no-school-winter-break/
CATEGORIES:Carlton Innovation School
END:VEVENT
BEGIN:VEVENT
DTSTART;VALUE=DATE:20251214
DTEND;VALUE=DATE:20251223
DTSTAMP:20260420T222409
CREATED:20250925T191827Z
LAST-MODIFIED:20251222T230215Z
UID:10000838-1765670400-1766447999@spscarlton.salemk12.org
SUMMARY:Hanukkah
DESCRIPTION:
URL:https://spscarlton.salemk12.org/event/hanukkah-2/
CATEGORIES:Carlton Innovation School
END:VEVENT
BEGIN:VEVENT
DTSTART;VALUE=DATE:20251212
DTEND;VALUE=DATE:20251213
DTSTAMP:20260420T222409
CREATED:20250722T230228Z
LAST-MODIFIED:20251212T223217Z
UID:10000826-1765497600-1765583999@spscarlton.salemk12.org
SUMMARY:Early Release @ 11:55am
DESCRIPTION:
URL:https://spscarlton.salemk12.org/event/early-release-1155am-5/
CATEGORIES:Carlton Innovation School
END:VEVENT
BEGIN:VEVENT
DTSTART;VALUE=DATE:20251212
DTEND;VALUE=DATE:20251213
DTSTAMP:20260420T222409
CREATED:20250722T230228Z
LAST-MODIFIED:20251212T223217Z
UID:10000827-1765497600-1765583999@spscarlton.salemk12.org
SUMMARY:Teacher/Caregiver Conferences
DESCRIPTION:Conferences are by appointment only.  They are for Caregivers and Teachers.
URL:https://spscarlton.salemk12.org/event/teacher-caregiver-conferences/
CATEGORIES:Carlton Innovation School
END:VEVENT
BEGIN:VEVENT
DTSTART;VALUE=DATE:20251211
DTEND;VALUE=DATE:20251212
DTSTAMP:20260420T222409
CREATED:20250722T230229Z
LAST-MODIFIED:20251211T223216Z
UID:10000828-1765411200-1765497599@spscarlton.salemk12.org
SUMMARY:Teacher/Caregiver Conferences
DESCRIPTION:Conferences are by appointment only.  They are for Caregivers and Teachers.
URL:https://spscarlton.salemk12.org/event/teacher-caregiver-conferences-2/
CATEGORIES:Carlton Innovation School
END:VEVENT
BEGIN:VEVENT
DTSTART;VALUE=DATE:20251211
DTEND;VALUE=DATE:20251212
DTSTAMP:20260420T222409
CREATED:20250722T230228Z
LAST-MODIFIED:20251211T223216Z
UID:10000825-1765411200-1765497599@spscarlton.salemk12.org
SUMMARY:Early Release @ 11:55am
DESCRIPTION:
URL:https://spscarlton.salemk12.org/event/early-release-1155am-4/
CATEGORIES:Carlton Innovation School
END:VEVENT
BEGIN:VEVENT
DTSTART;VALUE=DATE:20251204
DTEND;VALUE=DATE:20251205
DTSTAMP:20260420T222409
CREATED:20251125T210221Z
LAST-MODIFIED:20251204T220214Z
UID:10000855-1764806400-1764892799@spscarlton.salemk12.org
SUMMARY:Picture Retake Day
DESCRIPTION:Who qualifies to have a picture taken on retake day?\n1. All new students (forms will be sent home)\n2. Any student who was absent on the original date (if you need a new form call the office)\n3. Any student who purchased a package and needs a retake.  The original portrait package must be returned to the photographer in order to have the retake done.
URL:https://spscarlton.salemk12.org/event/picture-retake-day-2/
CATEGORIES:Carlton Innovation School
END:VEVENT
BEGIN:VEVENT
DTSTART;VALUE=DATE:20251128
DTEND;VALUE=DATE:20251129
DTSTAMP:20260420T222409
CREATED:20250626T221817Z
LAST-MODIFIED:20251128T213218Z
UID:10000811-1764288000-1764374399@spscarlton.salemk12.org
SUMMARY:No School/Schools Closed
DESCRIPTION:
URL:https://spscarlton.salemk12.org/event/no-school-schools-closed-4/
CATEGORIES:Carlton Innovation School
END:VEVENT
BEGIN:VEVENT
DTSTART;VALUE=DATE:20251127
DTEND;VALUE=DATE:20251128
DTSTAMP:20260420T222409
CREATED:20250626T221817Z
LAST-MODIFIED:20251127T211756Z
UID:10000810-1764201600-1764287999@spscarlton.salemk12.org
SUMMARY:No School/Schools Closed
DESCRIPTION:
URL:https://spscarlton.salemk12.org/event/no-school-schools-closed-3/
CATEGORIES:Carlton Innovation School
END:VEVENT
BEGIN:VEVENT
DTSTART;VALUE=DATE:20251126
DTEND;VALUE=DATE:20251127
DTSTAMP:20260420T222409
CREATED:20250722T230216Z
LAST-MODIFIED:20251126T210220Z
UID:10000824-1764115200-1764201599@spscarlton.salemk12.org
SUMMARY:Early Release @ 11:55am
DESCRIPTION:
URL:https://spscarlton.salemk12.org/event/early-release-1155am-3/
CATEGORIES:Carlton Innovation School
END:VEVENT
BEGIN:VEVENT
DTSTART;TZID=America/New_York:20251125T183000
DTEND;TZID=America/New_York:20251125T203000
DTSTAMP:20260420T222409
CREATED:20251106T203225Z
LAST-MODIFIED:20251125T210221Z
UID:10000850-1764095400-1764102600@spscarlton.salemk12.org
SUMMARY:Elementary School Reconfiguration Forum
DESCRIPTION:Spanish and Portuguese interpretation will be provided for those that attend in person
URL:https://spscarlton.salemk12.org/event/elementary-school-reconfiguration-forum-2/
LOCATION:Horace Mann Laboratory School\, 79 Willson St\, Salem\, MA\, United States
CATEGORIES:Carlton Innovation School
GEO:42.506486;-70.90543
X-APPLE-STRUCTURED-LOCATION;VALUE=URI;X-ADDRESS=Horace Mann Laboratory School 79 Willson St Salem MA United States;X-APPLE-RADIUS=500;X-TITLE=79 Willson St:geo:-70.90543,42.506486
END:VEVENT
BEGIN:VEVENT
DTSTART;TZID=America/New_York:20251124T180000
DTEND;TZID=America/New_York:20251124T200000
DTSTAMP:20260420T222409
CREATED:20251119T210216Z
LAST-MODIFIED:20251124T210219Z
UID:10000853-1764007200-1764014400@spscarlton.salemk12.org
SUMMARY:Foro sobre la reconfiguración de la escuela primaria en Español at Saltonstall School
DESCRIPTION:
URL:https://spscarlton.salemk12.org/event/foro-sobre-la-reconfiguracion-de-la-escuela-primaria-en-espanol-at-saltonstall-school/
LOCATION:Saltonstall School\, 211 Lafayette St\, Salem\, MA\, United States
CATEGORIES:Carlton Innovation School
GEO:42.512742;-70.892231
X-APPLE-STRUCTURED-LOCATION;VALUE=URI;X-ADDRESS=Saltonstall School 211 Lafayette St Salem MA United States;X-APPLE-RADIUS=500;X-TITLE=211 Lafayette St:geo:-70.892231,42.512742
END:VEVENT
BEGIN:VEVENT
DTSTART;TZID=America/New_York:20251120T183000
DTEND;TZID=America/New_York:20251120T203000
DTSTAMP:20260420T222409
CREATED:20251113T203238Z
LAST-MODIFIED:20251120T210217Z
UID:10000852-1763663400-1763670600@spscarlton.salemk12.org
SUMMARY:Basic Rights: Understanding the IEP: This workshop provides a basic overview of the IEP\, from its development to its key components\, services\, and goals.
DESCRIPTION:
URL:https://spscarlton.salemk12.org/event/basic-rights-understanding-the-iep-this-workshop-provides-a-basic-overview-of-the-iep-from-its-development-to-its-key-components-services-and-goals/
CATEGORIES:Carlton Innovation School
END:VEVENT
BEGIN:VEVENT
DTSTART;TZID=America/New_York:20251118T183000
DTEND;TZID=America/New_York:20251118T193000
DTSTAMP:20260420T222409
CREATED:20251113T203238Z
LAST-MODIFIED:20251118T204821Z
UID:10000851-1763490600-1763494200@spscarlton.salemk12.org
SUMMARY:Navigating the IEP: This workshop focuses on the new IEP form and how to use it as a roadmap for your student's success.
DESCRIPTION:Register: https://fcsn.org/event/navigating-the-iep-11-18-25/
URL:https://spscarlton.salemk12.org/event/navigating-the-iep-this-workshop-focuses-on-the-new-iep-form-and-how-to-use-it-as-a-roadmap-for-your-students-success/
CATEGORIES:Carlton Innovation School
END:VEVENT
BEGIN:VEVENT
DTSTART;TZID=America/New_York:20251117T170000
DTEND;TZID=America/New_York:20251117T190000
DTSTAMP:20260420T222409
CREATED:20251106T203225Z
LAST-MODIFIED:20251117T204713Z
UID:10000849-1763398800-1763406000@spscarlton.salemk12.org
SUMMARY:Elementary School Reconfiguration Forum
DESCRIPTION:Spanish and Portuguese interpretation will be provided for those that attend in person
URL:https://spscarlton.salemk12.org/event/elementary-school-reconfiguration-forum/
LOCATION:Saltonstall School\, 211 Lafayette St\, Salem\, MA\, United States
CATEGORIES:Carlton Innovation School
GEO:42.512742;-70.892231
X-APPLE-STRUCTURED-LOCATION;VALUE=URI;X-ADDRESS=Saltonstall School 211 Lafayette St Salem MA United States;X-APPLE-RADIUS=500;X-TITLE=211 Lafayette St:geo:-70.892231,42.512742
END:VEVENT
BEGIN:VEVENT
DTSTART;VALUE=DATE:20251114
DTEND;VALUE=DATE:20251115
DTSTAMP:20260420T222409
CREATED:20250722T230216Z
LAST-MODIFIED:20251114T203219Z
UID:10000822-1763078400-1763164799@spscarlton.salemk12.org
SUMMARY:Early Release @ 11:55am
DESCRIPTION:
URL:https://spscarlton.salemk12.org/event/early-release-1155am-2/
CATEGORIES:Carlton Innovation School
END:VEVENT
BEGIN:VEVENT
DTSTART;VALUE=DATE:20251114
DTEND;VALUE=DATE:20251115
DTSTAMP:20260420T222409
CREATED:20250722T230216Z
LAST-MODIFIED:20251114T203219Z
UID:10000823-1763078400-1763164799@spscarlton.salemk12.org
SUMMARY:Transition Meetings - By Appointment Only
DESCRIPTION:If a student has a transition meeting\, appointment times will be sent out by the homeroom teacher.  Transition meetings are for students AND caregivers.
URL:https://spscarlton.salemk12.org/event/transition-meetings-by-appointment-only/
CATEGORIES:Carlton Innovation School
END:VEVENT
BEGIN:VEVENT
DTSTART;VALUE=DATE:20251111
DTEND;VALUE=DATE:20251112
DTSTAMP:20260420T222409
CREATED:20250626T221817Z
LAST-MODIFIED:20251111T203218Z
UID:10000809-1762819200-1762905599@spscarlton.salemk12.org
SUMMARY:No School/Schools Closed
DESCRIPTION:
URL:https://spscarlton.salemk12.org/event/no-school-schools-closed-2/
CATEGORIES:Carlton Innovation School
END:VEVENT
BEGIN:VEVENT
DTSTART;VALUE=DATE:20251031
DTEND;VALUE=DATE:20251101
DTSTAMP:20260420T222409
CREATED:20250722T230216Z
LAST-MODIFIED:20251031T203216Z
UID:10000821-1761868800-1761955199@spscarlton.salemk12.org
SUMMARY:Early Release @ 11:55am
DESCRIPTION:
URL:https://spscarlton.salemk12.org/event/early-release-1155am/
CATEGORIES:Carlton Innovation School
END:VEVENT
BEGIN:VEVENT
DTSTART;TZID=America/New_York:20251028T183000
DTEND;TZID=America/New_York:20251028T193000
DTSTAMP:20260420T222409
CREATED:20251017T203216Z
LAST-MODIFIED:20251028T203216Z
UID:10000844-1761676200-1761679800@spscarlton.salemk12.org
SUMMARY:Jump rope Webinar
DESCRIPTION:
URL:https://spscarlton.salemk12.org/event/jump-rope-webinar/
LOCATION:http://shorturl.at/3L4WK
CATEGORIES:Carlton Innovation School
END:VEVENT
BEGIN:VEVENT
DTSTART;TZID=America/New_York:20251021T183000
DTEND;TZID=America/New_York:20251021T193000
DTSTAMP:20260420T222409
CREATED:20251017T203216Z
LAST-MODIFIED:20251021T203221Z
UID:10000843-1761071400-1761075000@spscarlton.salemk12.org
SUMMARY:JumpRope Webinar
DESCRIPTION:
URL:https://spscarlton.salemk12.org/event/jumprope-webinar/
LOCATION:http://shorturl.at/geDWb
CATEGORIES:Carlton Innovation School
END:VEVENT
END:VCALENDAR