BEGIN:VCALENDAR
VERSION:2.0
PRODID:-//Carlton Innovation School - ECPv6.15.18//NONSGML v1.0//EN
CALSCALE:GREGORIAN
METHOD:PUBLISH
X-WR-CALNAME:Carlton Innovation School
X-ORIGINAL-URL:https://spscarlton.salemk12.org
X-WR-CALDESC:Events for Carlton Innovation School
REFRESH-INTERVAL;VALUE=DURATION:PT1H
X-Robots-Tag:noindex
X-PUBLISHED-TTL:PT1H
BEGIN:VTIMEZONE
TZID:America/New_York
BEGIN:DAYLIGHT
TZOFFSETFROM:-0500
TZOFFSETTO:-0400
TZNAME:EDT
DTSTART:20210314T070000
END:DAYLIGHT
BEGIN:STANDARD
TZOFFSETFROM:-0400
TZOFFSETTO:-0500
TZNAME:EST
DTSTART:20211107T060000
END:STANDARD
BEGIN:DAYLIGHT
TZOFFSETFROM:-0500
TZOFFSETTO:-0400
TZNAME:EDT
DTSTART:20220313T070000
END:DAYLIGHT
BEGIN:STANDARD
TZOFFSETFROM:-0400
TZOFFSETTO:-0500
TZNAME:EST
DTSTART:20221106T060000
END:STANDARD
BEGIN:DAYLIGHT
TZOFFSETFROM:-0500
TZOFFSETTO:-0400
TZNAME:EDT
DTSTART:20230312T070000
END:DAYLIGHT
BEGIN:STANDARD
TZOFFSETFROM:-0400
TZOFFSETTO:-0500
TZNAME:EST
DTSTART:20231105T060000
END:STANDARD
END:VTIMEZONE
BEGIN:VEVENT
DTSTART;VALUE=DATE:20221019
DTEND;VALUE=DATE:20221020
DTSTAMP:20260422T195014
CREATED:20220824T194814Z
LAST-MODIFIED:20221018T231811Z
UID:10000512-1666137600-1666223999@spscarlton.salemk12.org
SUMMARY:Early Release PD Day
DESCRIPTION:
URL:https://spscarlton.salemk12.org/event/early-release-pd-day/
CATEGORIES:District
END:VEVENT
BEGIN:VEVENT
DTSTART;VALUE=DATE:20221014
DTEND;VALUE=DATE:20221015
DTSTAMP:20260422T195014
CREATED:20220929T184756Z
LAST-MODIFIED:20221014T190214Z
UID:10000451-1665705600-1665791999@spscarlton.salemk12.org
SUMMARY:T1 Progress Reports
DESCRIPTION:
URL:https://spscarlton.salemk12.org/event/t1-progress-reports/
CATEGORIES:Carlton Innovation School
END:VEVENT
BEGIN:VEVENT
DTSTART;TZID=America/New_York:20221012T183000
DTEND;TZID=America/New_York:20221012T193000
DTSTAMP:20260422T195014
CREATED:20220929T184756Z
LAST-MODIFIED:20221012T190213Z
UID:10000447-1665599400-1665603000@spscarlton.salemk12.org
SUMMARY:PTO Meeting (in Library)
DESCRIPTION:Meeting is in-person but if you cannot attend\, feel free to virtually join by using this link: tinyurl.com/phzedzp7
URL:https://spscarlton.salemk12.org/event/pto-meeting-in-library/
LOCATION:Carlton Innovation School\, 10 Skerry St\, Salem\, MA 01970\, USA
CATEGORIES:Carlton Innovation School
END:VEVENT
BEGIN:VEVENT
DTSTART;TZID=America/New_York:20221012T144500
DTEND;TZID=America/New_York:20221012T164500
DTSTAMP:20260422T195014
CREATED:20220905T224811Z
LAST-MODIFIED:20220914T233213Z
UID:10000420-1665585900-1665593100@spscarlton.salemk12.org
SUMMARY:Staff Meeting
DESCRIPTION:
URL:https://spscarlton.salemk12.org/event/staff-meeting-2/
CATEGORIES:Carlton Innovation School
END:VEVENT
BEGIN:VEVENT
DTSTART;VALUE=DATE:20221012
DTEND;VALUE=DATE:20221013
DTSTAMP:20260422T195014
CREATED:20220929T184756Z
LAST-MODIFIED:20221012T190213Z
UID:10000449-1665532800-1665619199@spscarlton.salemk12.org
SUMMARY:Annual Carlton Walk-a-Thon
DESCRIPTION:
URL:https://spscarlton.salemk12.org/event/annual-carlton-walk-a-thon/
CATEGORIES:Carlton Innovation School
END:VEVENT
BEGIN:VEVENT
DTSTART;VALUE=DATE:20221010
DTEND;VALUE=DATE:20221011
DTSTAMP:20260422T195014
CREATED:20220905T224811Z
LAST-MODIFIED:20221010T190212Z
UID:10000419-1665360000-1665446399@spscarlton.salemk12.org
SUMMARY:Indigenous People's Day (no school)
DESCRIPTION:
URL:https://spscarlton.salemk12.org/event/indigenous-peoples-day-no-school/
CATEGORIES:Carlton Innovation School
END:VEVENT
BEGIN:VEVENT
DTSTART;VALUE=DATE:20221010
DTEND;VALUE=DATE:20221011
DTSTAMP:20260422T195014
CREATED:20220824T194814Z
LAST-MODIFIED:20221010T224813Z
UID:10000510-1665360000-1665446399@spscarlton.salemk12.org
SUMMARY:Indigenous Peoples' Day
DESCRIPTION:
URL:https://spscarlton.salemk12.org/event/indigenous-peoples-day/
CATEGORIES:District
END:VEVENT
BEGIN:VEVENT
DTSTART;TZID=America/New_York:20221006T180000
DTEND;TZID=America/New_York:20221006T210000
DTSTAMP:20260422T195014
CREATED:20220824T194814Z
LAST-MODIFIED:20221006T221814Z
UID:10000508-1665079200-1665090000@spscarlton.salemk12.org
SUMMARY:Haunted Happenings Parade
DESCRIPTION:
URL:https://spscarlton.salemk12.org/event/haunted-happenings-parade/
CATEGORIES:District
END:VEVENT
BEGIN:VEVENT
DTSTART;TZID=America/New_York:20221006T173000
DTEND;TZID=America/New_York:20221006T200000
DTSTAMP:20260422T195014
CREATED:20220929T184756Z
LAST-MODIFIED:20221006T190212Z
UID:10000445-1665077400-1665086400@spscarlton.salemk12.org
SUMMARY:Haunted Happenings Parade in Salem
DESCRIPTION:
URL:https://spscarlton.salemk12.org/event/haunted-happenings-parade-in-salem/
CATEGORIES:Carlton Innovation School
END:VEVENT
BEGIN:VEVENT
DTSTART;VALUE=DATE:20221005
DTEND;VALUE=DATE:20221006
DTSTAMP:20260422T195014
CREATED:20220824T194814Z
LAST-MODIFIED:20221005T221812Z
UID:10000506-1664928000-1665014399@spscarlton.salemk12.org
SUMMARY:Early Release for SHS\, Salem Prep and NLIS only
DESCRIPTION:
URL:https://spscarlton.salemk12.org/event/early-release-for-shs-salem-prep-and-nlis-only/
CATEGORIES:District
END:VEVENT
BEGIN:VEVENT
DTSTART;TZID=America/New_York:20220930T180000
DTEND;TZID=America/New_York:20220930T200000
DTSTAMP:20260422T195014
CREATED:20220929T184756Z
LAST-MODIFIED:20220929T184756Z
UID:10000443-1664560800-1664568000@spscarlton.salemk12.org
SUMMARY:Movie Night at Carlton
DESCRIPTION:
URL:https://spscarlton.salemk12.org/event/movie-night-at-carlton/
CATEGORIES:Carlton Innovation School
END:VEVENT
BEGIN:VEVENT
DTSTART;TZID=America/New_York:20220922T173000
DTEND;TZID=America/New_York:20220922T190000
DTSTAMP:20260422T195014
CREATED:20220905T224811Z
LAST-MODIFIED:20220917T181812Z
UID:10000418-1663867800-1663873200@spscarlton.salemk12.org
SUMMARY:Carlton Open House
DESCRIPTION:
URL:https://spscarlton.salemk12.org/event/carlton-open-house/
LOCATION:Carlton Innovation School\, 10 Skerry St\, Salem\, MA 01970\, USA
CATEGORIES:Carlton Innovation School
END:VEVENT
BEGIN:VEVENT
DTSTART;VALUE=DATE:20220921
DTEND;VALUE=DATE:20220922
DTSTAMP:20260422T195014
CREATED:20220824T194814Z
LAST-MODIFIED:20220917T213214Z
UID:10000504-1663718400-1663804799@spscarlton.salemk12.org
SUMMARY:Professional Development/Early Release day (except Carlton)
DESCRIPTION:
URL:https://spscarlton.salemk12.org/event/professional-development-early-release-day-except-carlton/
CATEGORIES:District
END:VEVENT
BEGIN:VEVENT
DTSTART;TZID=America/New_York:20220916T150000
DTEND;TZID=America/New_York:20220916T160000
DTSTAMP:20260422T195014
CREATED:20220915T211812Z
LAST-MODIFIED:20220915T211812Z
UID:10000621-1663340400-1663344000@spscarlton.salemk12.org
SUMMARY:Meet with Steve and Heidi
DESCRIPTION:
URL:https://spscarlton.salemk12.org/event/meet-with-steve-and-heidi/
CATEGORIES:District
END:VEVENT
BEGIN:VEVENT
DTSTART;TZID=America/New_York:20220914T144500
DTEND;TZID=America/New_York:20220914T164500
DTSTAMP:20260422T195014
CREATED:20220905T224811Z
LAST-MODIFIED:20220913T231813Z
UID:10000537-1663166700-1663173900@spscarlton.salemk12.org
SUMMARY:Staff Meeting
DESCRIPTION:
URL:https://spscarlton.salemk12.org/event/staff-meeting/
CATEGORIES:Carlton Innovation School
END:VEVENT
BEGIN:VEVENT
DTSTART;TZID=America/New_York:20220913T170000
DTEND;TZID=America/New_York:20220913T183000
DTSTAMP:20260422T195014
CREATED:20220913T210212Z
LAST-MODIFIED:20220913T210212Z
UID:10000620-1663088400-1663093800@spscarlton.salemk12.org
SUMMARY:Eli rehearsal
DESCRIPTION:
URL:https://spscarlton.salemk12.org/event/eli-rehearsal/
CATEGORIES:District
END:VEVENT
BEGIN:VEVENT
DTSTART;VALUE=DATE:20220830
DTEND;VALUE=DATE:20220831
DTSTAMP:20260422T195014
CREATED:20220824T194814Z
LAST-MODIFIED:20220830T201810Z
UID:10000407-1661817600-1661903999@spscarlton.salemk12.org
SUMMARY:First day of school grades 1-12 (except Carlton)
DESCRIPTION:
URL:https://spscarlton.salemk12.org/event/first-day-of-school-grades-except-carlton/
CATEGORIES:District
END:VEVENT
BEGIN:VEVENT
DTSTART;VALUE=DATE:20220623
DTEND;VALUE=DATE:20220624
DTSTAMP:20260422T195014
CREATED:20220411T231729Z
LAST-MODIFIED:20220623T200211Z
UID:10000497-1655942400-1656028799@spscarlton.salemk12.org
SUMMARY:Last Day of School (P2-E2)
DESCRIPTION:
URL:https://spscarlton.salemk12.org/event/last-day-of-school-p2-e2/
CATEGORIES:Carlton Innovation School
END:VEVENT
BEGIN:VEVENT
DTSTART;TZID=America/New_York:20220622T190000
DTEND;TZID=America/New_York:20220622T210000
DTSTAMP:20260422T195014
CREATED:20211214T161742Z
LAST-MODIFIED:20220622T181811Z
UID:10000388-1655924400-1655931600@spscarlton.salemk12.org
SUMMARY:School Committee Meeting
DESCRIPTION:
URL:https://spscarlton.salemk12.org/event/school-committee-meeting-13/
CATEGORIES:District
END:VEVENT
BEGIN:VEVENT
DTSTART;TZID=America/New_York:20220622T123000
DTEND;TZID=America/New_York:20220622T133000
DTSTAMP:20260422T195014
CREATED:20220606T200236Z
LAST-MODIFIED:20220621T200212Z
UID:10000406-1655901000-1655904600@spscarlton.salemk12.org
SUMMARY:E2 Seniors Moving On
DESCRIPTION:
URL:https://spscarlton.salemk12.org/event/e2-seniors-moving-on/
CATEGORIES:Carlton Innovation School
END:VEVENT
BEGIN:VEVENT
DTSTART;TZID=America/New_York:20220618T160000
DTEND;TZID=America/New_York:20220618T190000
DTSTAMP:20260422T195014
CREATED:20220606T200236Z
LAST-MODIFIED:20220618T200211Z
UID:10000405-1655568000-1655578800@spscarlton.salemk12.org
SUMMARY:School Picnic @ Curtis Park
DESCRIPTION:
URL:https://spscarlton.salemk12.org/event/school-picnic-curtis-park/
CATEGORIES:Carlton Innovation School
END:VEVENT
BEGIN:VEVENT
DTSTART;VALUE=DATE:20220617
DTEND;VALUE=DATE:20220618
DTSTAMP:20260422T195014
CREATED:20220606T200213Z
LAST-MODIFIED:20220617T200215Z
UID:10000404-1655424000-1655510399@spscarlton.salemk12.org
SUMMARY:Field Day Rain Date
DESCRIPTION:
URL:https://spscarlton.salemk12.org/event/field-day-rain-date/
CATEGORIES:Carlton Innovation School
END:VEVENT
BEGIN:VEVENT
DTSTART;VALUE=DATE:20220617
DTEND;VALUE=DATE:20220618
DTSTAMP:20260422T195014
CREATED:20220411T231729Z
LAST-MODIFIED:20220617T200215Z
UID:10000494-1655424000-1655510399@spscarlton.salemk12.org
SUMMARY:Last Day of School (P1 Students)
DESCRIPTION:
URL:https://spscarlton.salemk12.org/event/last-day-of-school-p1-students/
CATEGORIES:Carlton Innovation School
END:VEVENT
BEGIN:VEVENT
DTSTART;VALUE=DATE:20220617
DTEND;VALUE=DATE:20220618
DTSTAMP:20260422T195014
CREATED:20211222T183250Z
LAST-MODIFIED:20220617T181714Z
UID:10000396-1655424000-1655510399@spscarlton.salemk12.org
SUMMARY:Last day of school
DESCRIPTION:
URL:https://spscarlton.salemk12.org/event/last-day-of-school/
CATEGORIES:District
END:VEVENT
BEGIN:VEVENT
DTSTART;TZID=America/New_York:20220616T180000
DTEND;TZID=America/New_York:20220616T193000
DTSTAMP:20260422T195014
CREATED:20220606T200213Z
LAST-MODIFIED:20220616T200213Z
UID:10000403-1655402400-1655407800@spscarlton.salemk12.org
SUMMARY:Celebration of Learning E1/E2
DESCRIPTION:
URL:https://spscarlton.salemk12.org/event/celebration-of-learning-e1-e2/
CATEGORIES:Carlton Innovation School
END:VEVENT
BEGIN:VEVENT
DTSTART;TZID=America/New_York:20220615T180000
DTEND;TZID=America/New_York:20220615T193000
DTSTAMP:20260422T195014
CREATED:20220606T200213Z
LAST-MODIFIED:20220615T200213Z
UID:10000402-1655316000-1655321400@spscarlton.salemk12.org
SUMMARY:Celebration of Learning P1/P2
DESCRIPTION:
URL:https://spscarlton.salemk12.org/event/celebration-of-learning-p1-p2/
CATEGORIES:Carlton Innovation School
END:VEVENT
BEGIN:VEVENT
DTSTART;VALUE=DATE:20220615
DTEND;VALUE=DATE:20220616
DTSTAMP:20260422T195014
CREATED:20220606T200213Z
LAST-MODIFIED:20220615T200213Z
UID:10000401-1655251200-1655337599@spscarlton.salemk12.org
SUMMARY:E2 Srs Picnic
DESCRIPTION:
URL:https://spscarlton.salemk12.org/event/e2-srs-picnic/
CATEGORIES:Carlton Innovation School
END:VEVENT
BEGIN:VEVENT
DTSTART;VALUE=DATE:20220615
DTEND;VALUE=DATE:20220616
DTSTAMP:20260422T195014
CREATED:20211222T183250Z
LAST-MODIFIED:20220615T234813Z
UID:10000395-1655251200-1655337599@spscarlton.salemk12.org
SUMMARY:Last Day of School Pre-K & K only
DESCRIPTION:
URL:https://spscarlton.salemk12.org/event/last-day-of-school-pre-k-k-only/
CATEGORIES:District
END:VEVENT
BEGIN:VEVENT
DTSTART;VALUE=DATE:20220613
DTEND;VALUE=DATE:20220614
DTSTAMP:20260422T195014
CREATED:20220606T200213Z
LAST-MODIFIED:20220613T200214Z
UID:10000399-1655078400-1655164799@spscarlton.salemk12.org
SUMMARY:E2 Out of Building - 4 to Collins 5 to Mini Golf
DESCRIPTION:
URL:https://spscarlton.salemk12.org/event/e2-out-of-building-4-to-collins-5-to-mini-golf/
CATEGORIES:Carlton Innovation School
END:VEVENT
BEGIN:VEVENT
DTSTART;VALUE=DATE:20220613
DTEND;VALUE=DATE:20220614
DTSTAMP:20260422T195014
CREATED:20220606T200213Z
LAST-MODIFIED:20220613T200214Z
UID:10000400-1655078400-1655164799@spscarlton.salemk12.org
SUMMARY:P1 Walking Trip
DESCRIPTION:
URL:https://spscarlton.salemk12.org/event/p1-walking-trip/
CATEGORIES:Carlton Innovation School
END:VEVENT
END:VCALENDAR