BEGIN:VCALENDAR
VERSION:2.0
PRODID:-//Carlton Innovation School - ECPv6.15.18//NONSGML v1.0//EN
CALSCALE:GREGORIAN
METHOD:PUBLISH
X-WR-CALNAME:Carlton Innovation School
X-ORIGINAL-URL:https://spscarlton.salemk12.org
X-WR-CALDESC:Events for Carlton Innovation School
REFRESH-INTERVAL;VALUE=DURATION:PT1H
X-Robots-Tag:noindex
X-PUBLISHED-TTL:PT1H
BEGIN:VTIMEZONE
TZID:America/New_York
BEGIN:DAYLIGHT
TZOFFSETFROM:-0500
TZOFFSETTO:-0400
TZNAME:EDT
DTSTART:20220313T070000
END:DAYLIGHT
BEGIN:STANDARD
TZOFFSETFROM:-0400
TZOFFSETTO:-0500
TZNAME:EST
DTSTART:20221106T060000
END:STANDARD
BEGIN:DAYLIGHT
TZOFFSETFROM:-0500
TZOFFSETTO:-0400
TZNAME:EDT
DTSTART:20230312T070000
END:DAYLIGHT
BEGIN:STANDARD
TZOFFSETFROM:-0400
TZOFFSETTO:-0500
TZNAME:EST
DTSTART:20231105T060000
END:STANDARD
BEGIN:DAYLIGHT
TZOFFSETFROM:-0500
TZOFFSETTO:-0400
TZNAME:EDT
DTSTART:20240310T070000
END:DAYLIGHT
BEGIN:STANDARD
TZOFFSETFROM:-0400
TZOFFSETTO:-0500
TZNAME:EST
DTSTART:20241103T060000
END:STANDARD
END:VTIMEZONE
BEGIN:VEVENT
DTSTART;TZID=America/New_York:20231114T183000
DTEND;TZID=America/New_York:20231114T193000
DTSTAMP:20260421T205228
CREATED:20231103T233212Z
LAST-MODIFIED:20231114T234812Z
UID:10000495-1699986600-1699990200@spscarlton.salemk12.org
SUMMARY:Carlton PTO Meeting
DESCRIPTION:
URL:https://spscarlton.salemk12.org/event/carlton-pto-meeting/
CATEGORIES:Carlton Innovation School
END:VEVENT
BEGIN:VEVENT
DTSTART;TZID=America/New_York:20231110T130000
DTEND;TZID=America/New_York:20231110T140000
DTSTAMP:20260421T205228
CREATED:20231103T233212Z
LAST-MODIFIED:20231109T233214Z
UID:10000673-1699621200-1699624800@spscarlton.salemk12.org
SUMMARY:No School
DESCRIPTION:
URL:https://spscarlton.salemk12.org/event/no-school-4/
CATEGORIES:Carlton Innovation School
END:VEVENT
BEGIN:VEVENT
DTSTART;VALUE=DATE:20231101
DTEND;VALUE=DATE:20231102
DTSTAMP:20260421T205228
CREATED:20231027T231811Z
LAST-MODIFIED:20231101T233210Z
UID:10000671-1698796800-1698883199@spscarlton.salemk12.org
SUMMARY:No School for Carlton
DESCRIPTION:
URL:https://spscarlton.salemk12.org/event/no-school-for-carlton/
CATEGORIES:Carlton Innovation School
END:VEVENT
BEGIN:VEVENT
DTSTART;VALUE=DATE:20231031
DTEND;VALUE=DATE:20231101
DTSTAMP:20260421T205228
CREATED:20231027T231811Z
LAST-MODIFIED:20231031T233211Z
UID:10000669-1698710400-1698796799@spscarlton.salemk12.org
SUMMARY:No School
DESCRIPTION:
URL:https://spscarlton.salemk12.org/event/no-school-2/
CATEGORIES:Carlton Innovation School
END:VEVENT
BEGIN:VEVENT
DTSTART;VALUE=DATE:20231030
DTEND;VALUE=DATE:20231031
DTSTAMP:20260421T205228
CREATED:20231027T231811Z
LAST-MODIFIED:20231030T231811Z
UID:10000670-1698624000-1698710399@spscarlton.salemk12.org
SUMMARY:No School
DESCRIPTION:
URL:https://spscarlton.salemk12.org/event/no-school-3/
CATEGORIES:Carlton Innovation School
END:VEVENT
BEGIN:VEVENT
DTSTART;VALUE=DATE:20231027
DTEND;VALUE=DATE:20231028
DTSTAMP:20260421T205228
CREATED:20231027T231810Z
LAST-MODIFIED:20231027T231810Z
UID:10000668-1698364800-1698451199@spscarlton.salemk12.org
SUMMARY:Pijama Day!!
DESCRIPTION:
URL:https://spscarlton.salemk12.org/event/pijama-day/
CATEGORIES:Carlton Innovation School
END:VEVENT
BEGIN:VEVENT
DTSTART;TZID=America/New_York:20231025T090000
DTEND;TZID=America/New_York:20231025T140000
DTSTAMP:20260421T205228
CREATED:20231016T224810Z
LAST-MODIFIED:20231024T230214Z
UID:10000667-1698224400-1698242400@spscarlton.salemk12.org
SUMMARY:Walk-A-Thon
DESCRIPTION:
URL:https://spscarlton.salemk12.org/event/walk-a-thon/
CATEGORIES:Carlton Innovation School
END:VEVENT
BEGIN:VEVENT
DTSTART;TZID=America/New_York:20231018T120500
DTEND;TZID=America/New_York:20231018T130500
DTSTAMP:20260421T205228
CREATED:20230918T211812Z
LAST-MODIFIED:20231017T224811Z
UID:10000662-1697630700-1697634300@spscarlton.salemk12.org
SUMMARY:Carlton Early Release -
DESCRIPTION:
URL:https://spscarlton.salemk12.org/event/carlton-early-release/
CATEGORIES:Carlton Innovation School
END:VEVENT
BEGIN:VEVENT
DTSTART;TZID=America/New_York:20231017T090000
DTEND;TZID=America/New_York:20231017T130000
DTSTAMP:20260421T205228
CREATED:20231012T223212Z
LAST-MODIFIED:20231016T224810Z
UID:10000666-1697533200-1697547600@spscarlton.salemk12.org
SUMMARY:Picture Day
DESCRIPTION:
URL:https://spscarlton.salemk12.org/event/picture-day-2/
CATEGORIES:Carlton Innovation School
END:VEVENT
BEGIN:VEVENT
DTSTART;VALUE=DATE:20231017
DTEND;VALUE=DATE:20231018
DTSTAMP:20260421T205228
CREATED:20230727T184811Z
LAST-MODIFIED:20231017T224811Z
UID:10000657-1697500800-1697587199@spscarlton.salemk12.org
SUMMARY:Picture Day
DESCRIPTION:
URL:https://spscarlton.salemk12.org/event/picture-day/
CATEGORIES:Carlton Innovation School
END:VEVENT
BEGIN:VEVENT
DTSTART;TZID=America/New_York:20231010T183000
DTEND;TZID=America/New_York:20231010T193000
DTSTAMP:20260421T205228
CREATED:20231004T221744Z
LAST-MODIFIED:20231010T223211Z
UID:10000664-1696962600-1696966200@spscarlton.salemk12.org
SUMMARY:PTO Meeting
DESCRIPTION:
URL:https://spscarlton.salemk12.org/event/pto-meeting-2/
CATEGORIES:Carlton Innovation School
END:VEVENT
BEGIN:VEVENT
DTSTART;VALUE=DATE:20231009
DTEND;VALUE=DATE:20231010
DTSTAMP:20260421T205228
CREATED:20231004T221744Z
LAST-MODIFIED:20231009T223212Z
UID:10000663-1696809600-1696895999@spscarlton.salemk12.org
SUMMARY:No School
DESCRIPTION:
URL:https://spscarlton.salemk12.org/event/no-school/
CATEGORIES:Carlton Innovation School
END:VEVENT
BEGIN:VEVENT
DTSTART;VALUE=DATE:20230925
DTEND;VALUE=DATE:20230930
DTSTAMP:20260421T205228
CREATED:20230825T203211Z
LAST-MODIFIED:20230929T214810Z
UID:10000660-1695600000-1696031999@spscarlton.salemk12.org
SUMMARY:Farm School - E2
DESCRIPTION:
URL:https://spscarlton.salemk12.org/event/farm-school-e2/
CATEGORIES:Carlton Innovation School
END:VEVENT
BEGIN:VEVENT
DTSTART;TZID=America/New_York:20230920T180000
DTEND;TZID=America/New_York:20230920T193000
DTSTAMP:20260421T205228
CREATED:20230801T190210Z
LAST-MODIFIED:20230920T211810Z
UID:10000658-1695232800-1695238200@spscarlton.salemk12.org
SUMMARY:Carlton - Open House
DESCRIPTION:
URL:https://spscarlton.salemk12.org/event/open-house/
CATEGORIES:Carlton Innovation School
END:VEVENT
BEGIN:VEVENT
DTSTART;TZID=America/New_York:20230906T180000
DTEND;TZID=America/New_York:20230906T190000
DTSTAMP:20260421T205228
CREATED:20230809T194810Z
LAST-MODIFIED:20230906T204750Z
UID:10000659-1694023200-1694026800@spscarlton.salemk12.org
SUMMARY:Farm School Meeting
DESCRIPTION:
URL:https://spscarlton.salemk12.org/event/farm-school-meeting/
CATEGORIES:Carlton Innovation School
END:VEVENT
BEGIN:VEVENT
DTSTART;TZID=America/New_York:20230829T180000
DTEND;TZID=America/New_York:20230829T190000
DTSTAMP:20260421T205228
CREATED:20230829T203210Z
LAST-MODIFIED:20230829T203210Z
UID:10000661-1693332000-1693335600@spscarlton.salemk12.org
SUMMARY:P1 (Kindergarden) Scavenger Hunt
DESCRIPTION:
URL:https://spscarlton.salemk12.org/event/p1-kindergarden-scavenger-hunt/
CATEGORIES:Carlton Innovation School
END:VEVENT
BEGIN:VEVENT
DTSTART;VALUE=DATE:20230621
DTEND;VALUE=DATE:20230622
DTSTAMP:20260421T205228
CREATED:20230414T193224Z
LAST-MODIFIED:20230621T234810Z
UID:10000655-1687305600-1687391999@spscarlton.salemk12.org
SUMMARY:Last Day of School Grades early release (all schools except Carlton)
DESCRIPTION:
URL:https://spscarlton.salemk12.org/event/last-day-of-school-grades-early-release-all-schools-except-carlton/
CATEGORIES:District
END:VEVENT
BEGIN:VEVENT
DTSTART;VALUE=DATE:20230620
DTEND;VALUE=DATE:20230621
DTSTAMP:20260421T205228
CREATED:20230414T193224Z
LAST-MODIFIED:20230620T233211Z
UID:10000654-1687219200-1687305599@spscarlton.salemk12.org
SUMMARY:Last Day PreK-K (all schools except Carlton)
DESCRIPTION:
URL:https://spscarlton.salemk12.org/event/last-day-prek-k-all-schools-except-carlton/
CATEGORIES:District
END:VEVENT
BEGIN:VEVENT
DTSTART;VALUE=DATE:20230620
DTEND;VALUE=DATE:20230621
DTSTAMP:20260421T205228
CREATED:20220824T194838Z
LAST-MODIFIED:20230413T191825Z
UID:10000535-1687219200-1687305599@spscarlton.salemk12.org
SUMMARY:Last Day of School (pending snow days)
DESCRIPTION:
URL:https://spscarlton.salemk12.org/event/last-day-of-school-pending-snow-days/
CATEGORIES:District
END:VEVENT
BEGIN:VEVENT
DTSTART;VALUE=DATE:20230619
DTEND;VALUE=DATE:20230620
DTSTAMP:20260421T205228
CREATED:20220824T194838Z
LAST-MODIFIED:20230619T233212Z
UID:10000536-1687132800-1687219199@spscarlton.salemk12.org
SUMMARY:Juneteenth (no school)
DESCRIPTION:
URL:https://spscarlton.salemk12.org/event/juneteenth-no-school/
CATEGORIES:District
END:VEVENT
BEGIN:VEVENT
DTSTART;VALUE=DATE:20230616
DTEND;VALUE=DATE:20230617
DTSTAMP:20260421T205228
CREATED:20220824T194838Z
LAST-MODIFIED:20230616T233211Z
UID:10000534-1686873600-1686959999@spscarlton.salemk12.org
SUMMARY:Last day (pending snow days) for PreK and K
DESCRIPTION:
URL:https://spscarlton.salemk12.org/event/last-day-pending-snow-days-for-prek-and-k/
CATEGORIES:District
END:VEVENT
BEGIN:VEVENT
DTSTART;VALUE=DATE:20230614
DTEND;VALUE=DATE:20230615
DTSTAMP:20260421T205228
CREATED:20230414T183212Z
LAST-MODIFIED:20230614T224811Z
UID:10000653-1686700800-1686787199@spscarlton.salemk12.org
SUMMARY:Last Day Carlton (Early release)
DESCRIPTION:
URL:https://spscarlton.salemk12.org/event/last-day-carlton-early-release/
CATEGORIES:Carlton Innovation School
END:VEVENT
BEGIN:VEVENT
DTSTART;TZID=America/New_York:20230613T190000
DTEND;TZID=America/New_York:20230613T210000
DTSTAMP:20260421T205228
CREATED:20220929T221900Z
LAST-MODIFIED:20230613T233210Z
UID:10000639-1686682800-1686690000@spscarlton.salemk12.org
SUMMARY:Saltonstall Final Concert
DESCRIPTION:
URL:https://spscarlton.salemk12.org/event/saltonstall-final-concert/
LOCATION:Saltonstall School\, 211 Lafayette St\, Salem\, MA 01970\, USA
CATEGORIES:District
END:VEVENT
BEGIN:VEVENT
DTSTART;VALUE=DATE:20230613
DTEND;VALUE=DATE:20230614
DTSTAMP:20260421T205228
CREATED:20220905T224847Z
LAST-MODIFIED:20230613T224811Z
UID:10000619-1686614400-1686700799@spscarlton.salemk12.org
SUMMARY:Last Day for P2\, E1\, E2 (1/2 day)
DESCRIPTION:
URL:https://spscarlton.salemk12.org/event/last-day-for-p2-e1-e2-1-2-day/
CATEGORIES:Carlton Innovation School
END:VEVENT
BEGIN:VEVENT
DTSTART;VALUE=DATE:20230613
DTEND;VALUE=DATE:20230614
DTSTAMP:20260421T205228
CREATED:20220824T194838Z
LAST-MODIFIED:20230613T233210Z
UID:10000533-1686614400-1686700799@spscarlton.salemk12.org
SUMMARY:Last day of school (pending snow days\, CARLTON ONLY)
DESCRIPTION:
URL:https://spscarlton.salemk12.org/event/last-day-of-school-pending-snow-days-carlton-only/
CATEGORIES:District
END:VEVENT
BEGIN:VEVENT
DTSTART;VALUE=DATE:20230612
DTEND;VALUE=DATE:20230613
DTSTAMP:20260421T205228
CREATED:20230414T183212Z
LAST-MODIFIED:20230612T224810Z
UID:10000652-1686528000-1686614399@spscarlton.salemk12.org
SUMMARY:Last day P1 @ Carlton
DESCRIPTION:
URL:https://spscarlton.salemk12.org/event/last-day-p1-carlton/
CATEGORIES:Carlton Innovation School
END:VEVENT
BEGIN:VEVENT
DTSTART;VALUE=DATE:20230609
DTEND;VALUE=DATE:20230610
DTSTAMP:20260421T205228
CREATED:20220905T224847Z
LAST-MODIFIED:20230607T224753Z
UID:10000617-1686268800-1686355199@spscarlton.salemk12.org
SUMMARY:Last Day for P1
DESCRIPTION:
URL:https://spscarlton.salemk12.org/event/last-day-for-p1/
CATEGORIES:Carlton Innovation School
END:VEVENT
BEGIN:VEVENT
DTSTART;VALUE=DATE:20230609
DTEND;VALUE=DATE:20230610
DTSTAMP:20260421T205228
CREATED:20220824T194838Z
LAST-MODIFIED:20230609T233210Z
UID:10000532-1686268800-1686355199@spscarlton.salemk12.org
SUMMARY:Kindergaten Last Day of school (pending snow days and CARLTON ONLY)
DESCRIPTION:
URL:https://spscarlton.salemk12.org/event/kindergaten-last-day-of-school-pending-snow-days-and-carlton-only/
CATEGORIES:District
END:VEVENT
BEGIN:VEVENT
DTSTART;TZID=America/New_York:20230608T190000
DTEND;TZID=America/New_York:20230608T200000
DTSTAMP:20260421T205228
CREATED:20220929T221900Z
LAST-MODIFIED:20230608T233212Z
UID:10000637-1686250800-1686254400@spscarlton.salemk12.org
SUMMARY:Collins Middle School Final Concert
DESCRIPTION:
URL:https://spscarlton.salemk12.org/event/collins-middle-school-final-concert/
LOCATION:Collins Middle School\, 29 Highland Ave\, Salem\, MA 01970\, USA
CATEGORIES:District
END:VEVENT
BEGIN:VEVENT
DTSTART;TZID=America/New_York:20230607T180000
DTEND;TZID=America/New_York:20230607T190000
DTSTAMP:20260421T205228
CREATED:20220929T221900Z
LAST-MODIFIED:20230606T233211Z
UID:10000636-1686160800-1686164400@spscarlton.salemk12.org
SUMMARY:SHS Music Department Awards Banquet
DESCRIPTION:
URL:https://spscarlton.salemk12.org/event/shs-music-department-awards-banquet/
LOCATION:Salem High School\, 77 Willson St\, Salem\, MA 01970\, USA
CATEGORIES:District
END:VEVENT
END:VCALENDAR