BEGIN:VCALENDAR
VERSION:2.0
PRODID:-//Carlton Innovation School - ECPv6.15.18//NONSGML v1.0//EN
CALSCALE:GREGORIAN
METHOD:PUBLISH
X-WR-CALNAME:Carlton Innovation School
X-ORIGINAL-URL:https://spscarlton.salemk12.org
X-WR-CALDESC:Events for Carlton Innovation School
REFRESH-INTERVAL;VALUE=DURATION:PT1H
X-Robots-Tag:noindex
X-PUBLISHED-TTL:PT1H
BEGIN:VTIMEZONE
TZID:America/New_York
BEGIN:DAYLIGHT
TZOFFSETFROM:-0500
TZOFFSETTO:-0400
TZNAME:EDT
DTSTART:20220313T070000
END:DAYLIGHT
BEGIN:STANDARD
TZOFFSETFROM:-0400
TZOFFSETTO:-0500
TZNAME:EST
DTSTART:20221106T060000
END:STANDARD
BEGIN:DAYLIGHT
TZOFFSETFROM:-0500
TZOFFSETTO:-0400
TZNAME:EDT
DTSTART:20230312T070000
END:DAYLIGHT
BEGIN:STANDARD
TZOFFSETFROM:-0400
TZOFFSETTO:-0500
TZNAME:EST
DTSTART:20231105T060000
END:STANDARD
BEGIN:DAYLIGHT
TZOFFSETFROM:-0500
TZOFFSETTO:-0400
TZNAME:EDT
DTSTART:20240310T070000
END:DAYLIGHT
BEGIN:STANDARD
TZOFFSETFROM:-0400
TZOFFSETTO:-0500
TZNAME:EST
DTSTART:20241103T060000
END:STANDARD
BEGIN:DAYLIGHT
TZOFFSETFROM:-0500
TZOFFSETTO:-0400
TZNAME:EDT
DTSTART:20250309T070000
END:DAYLIGHT
BEGIN:STANDARD
TZOFFSETFROM:-0400
TZOFFSETTO:-0500
TZNAME:EST
DTSTART:20251102T060000
END:STANDARD
END:VTIMEZONE
BEGIN:VEVENT
DTSTART;TZID=America/New_York:20240321T183000
DTEND;TZID=America/New_York:20240321T193000
DTSTAMP:20260421T223443
CREATED:20240212T214817Z
LAST-MODIFIED:20240321T190214Z
UID:10000685-1711045800-1711049400@spscarlton.salemk12.org
SUMMARY:Carlton PTO
DESCRIPTION:
URL:https://spscarlton.salemk12.org/event/carlton-pto-4/
CATEGORIES:Carlton Innovation School
END:VEVENT
BEGIN:VEVENT
DTSTART;TZID=America/New_York:20240312T183000
DTEND;TZID=America/New_York:20240312T193000
DTSTAMP:20260421T223443
CREATED:20240311T181812Z
LAST-MODIFIED:20240312T183214Z
UID:10000707-1710268200-1710271800@spscarlton.salemk12.org
SUMMARY:Carlton PTO
DESCRIPTION:
URL:https://spscarlton.salemk12.org/event/carlton-pto-52/
CATEGORIES:Carlton Innovation School
END:VEVENT
BEGIN:VEVENT
DTSTART;TZID=America/New_York:20240312T183000
DTEND;TZID=America/New_York:20240312T193000
DTSTAMP:20260421T223443
CREATED:20240212T214817Z
LAST-MODIFIED:20240312T183214Z
UID:10000684-1710268200-1710271800@spscarlton.salemk12.org
SUMMARY:Carlton PTO
DESCRIPTION:
URL:https://spscarlton.salemk12.org/event/carlton-pto-3/
CATEGORIES:Carlton Innovation School
END:VEVENT
BEGIN:VEVENT
DTSTART;TZID=America/New_York:20240227T091500
DTEND;TZID=America/New_York:20240227T101500
DTSTAMP:20260421T223443
CREATED:20240212T214817Z
LAST-MODIFIED:20240226T224754Z
UID:10000683-1709025300-1709028900@spscarlton.salemk12.org
SUMMARY:Dominican Independence Day Parade
DESCRIPTION:
URL:https://spscarlton.salemk12.org/event/dominican-independence-day-parade/
CATEGORIES:Carlton Innovation School
END:VEVENT
BEGIN:VEVENT
DTSTART;VALUE=DATE:20240219
DTEND;VALUE=DATE:20240224
DTSTAMP:20260421T223443
CREATED:20240212T214817Z
LAST-MODIFIED:20240223T223213Z
UID:10000682-1708300800-1708732799@spscarlton.salemk12.org
SUMMARY:Winter Break
DESCRIPTION:
URL:https://spscarlton.salemk12.org/event/winter-break/
CATEGORIES:Carlton Innovation School
END:VEVENT
BEGIN:VEVENT
DTSTART;TZID=America/New_York:20240216T133000
DTEND;TZID=America/New_York:20240216T143000
DTSTAMP:20260421T223443
CREATED:20240212T214817Z
LAST-MODIFIED:20240215T221736Z
UID:10000681-1708090200-1708093800@spscarlton.salemk12.org
SUMMARY:Slush Party
DESCRIPTION:
URL:https://spscarlton.salemk12.org/event/slush-party/
CATEGORIES:Carlton Innovation School
END:VEVENT
BEGIN:VEVENT
DTSTART;TZID=America/New_York:20240215T190000
DTEND;TZID=America/New_York:20240215T203000
DTSTAMP:20260421T223443
CREATED:20240212T214817Z
LAST-MODIFIED:20240215T221736Z
UID:10000679-1708023600-1708029000@spscarlton.salemk12.org
SUMMARY:All City Concert for 4th Graders and 1st Year Players
DESCRIPTION:
URL:https://spscarlton.salemk12.org/event/all-city-concert-for-4th-graders-and-1st-year-players/
CATEGORIES:Carlton Innovation School
END:VEVENT
BEGIN:VEVENT
DTSTART;TZID=America/New_York:20240215T183000
DTEND;TZID=America/New_York:20240215T193000
DTSTAMP:20260421T223443
CREATED:20240212T214817Z
LAST-MODIFIED:20240215T221736Z
UID:10000680-1708021800-1708025400@spscarlton.salemk12.org
SUMMARY:Carlton PTO
DESCRIPTION:
URL:https://spscarlton.salemk12.org/event/carlton-pto-2/
CATEGORIES:Carlton Innovation School
END:VEVENT
BEGIN:VEVENT
DTSTART;TZID=America/New_York:20240215T133000
DTEND;TZID=America/New_York:20240215T143000
DTSTAMP:20260421T223443
CREATED:20240212T214817Z
LAST-MODIFIED:20240214T220215Z
UID:10000678-1708003800-1708007400@spscarlton.salemk12.org
SUMMARY:Vocabulary Parade
DESCRIPTION:
URL:https://spscarlton.salemk12.org/event/vocabulary-parade/
CATEGORIES:Carlton Innovation School
END:VEVENT
BEGIN:VEVENT
DTSTART;TZID=America/New_York:20240214T083500
DTEND;TZID=America/New_York:20240214T143500
DTSTAMP:20260421T223443
CREATED:20240212T214817Z
LAST-MODIFIED:20240213T214723Z
UID:10000677-1707899700-1707921300@spscarlton.salemk12.org
SUMMARY:Pajama Day and Drop Everything & Read!!
DESCRIPTION:
URL:https://spscarlton.salemk12.org/event/pajama-day-and-drop-everything-read/
CATEGORIES:Carlton Innovation School
END:VEVENT
BEGIN:VEVENT
DTSTART;TZID=America/New_York:20240210T083000
DTEND;TZID=America/New_York:20240210T103000
DTSTAMP:20260421T223443
CREATED:20240208T213214Z
LAST-MODIFIED:20240209T213215Z
UID:10000676-1707553800-1707561000@spscarlton.salemk12.org
SUMMARY:Carlton School Pancake Breakfast
DESCRIPTION:
URL:https://spscarlton.salemk12.org/event/carlton-school-pancake-breakfast/
CATEGORIES:Carlton Innovation School
END:VEVENT
BEGIN:VEVENT
DTSTART;VALUE=DATE:20240115
DTEND;VALUE=DATE:20240116
DTSTAMP:20260421T223443
CREATED:20240103T193212Z
LAST-MODIFIED:20240115T194812Z
UID:10000675-1705276800-1705363199@spscarlton.salemk12.org
SUMMARY:No School
DESCRIPTION:
URL:https://spscarlton.salemk12.org/event/no-school-5/
CATEGORIES:Carlton Innovation School
END:VEVENT
BEGIN:VEVENT
DTSTART;TZID=America/New_York:20240112T180000
DTEND;TZID=America/New_York:20240112T200000
DTSTAMP:20260421T223443
CREATED:20240103T193212Z
LAST-MODIFIED:20240112T193211Z
UID:10000674-1705082400-1705089600@spscarlton.salemk12.org
SUMMARY:Carlton Glow Party
DESCRIPTION:
URL:https://spscarlton.salemk12.org/event/carlton-glow-party/
CATEGORIES:Carlton Innovation School
END:VEVENT
BEGIN:VEVENT
DTSTART;TZID=America/New_York:20240109T183000
DTEND;TZID=America/New_York:20240109T193000
DTSTAMP:20260421T223443
CREATED:20240103T193212Z
LAST-MODIFIED:20240109T193211Z
UID:10000511-1704825000-1704828600@spscarlton.salemk12.org
SUMMARY:Carlton PTO
DESCRIPTION:
URL:https://spscarlton.salemk12.org/event/carlton-pto/
CATEGORIES:Carlton Innovation School
END:VEVENT
BEGIN:VEVENT
DTSTART;VALUE=DATE:20231222
DTEND;VALUE=DATE:20240103
DTSTAMP:20260421T223443
CREATED:20231213T190213Z
LAST-MODIFIED:20240102T193213Z
UID:10000509-1703203200-1704239999@spscarlton.salemk12.org
SUMMARY:Vacation - No School
DESCRIPTION:
URL:https://spscarlton.salemk12.org/event/vacation-no-school/
CATEGORIES:Carlton Innovation School
END:VEVENT
BEGIN:VEVENT
DTSTART;VALUE=DATE:20231221
DTEND;VALUE=DATE:20231222
DTSTAMP:20260421T223443
CREATED:20231213T190213Z
LAST-MODIFIED:20231221T190214Z
UID:10000507-1703116800-1703203199@spscarlton.salemk12.org
SUMMARY:Comfy & Warm PJ Day
DESCRIPTION:
URL:https://spscarlton.salemk12.org/event/comfy-warm-pj-day/
CATEGORIES:Carlton Innovation School
END:VEVENT
BEGIN:VEVENT
DTSTART;VALUE=DATE:20231220
DTEND;VALUE=DATE:20231221
DTSTAMP:20260421T223443
CREATED:20231213T190213Z
LAST-MODIFIED:20231220T190211Z
UID:10000505-1703030400-1703116799@spscarlton.salemk12.org
SUMMARY:Wacky Hair Day
DESCRIPTION:
URL:https://spscarlton.salemk12.org/event/wacky-hair-day/
CATEGORIES:Carlton Innovation School
END:VEVENT
BEGIN:VEVENT
DTSTART;VALUE=DATE:20231219
DTEND;VALUE=DATE:20231220
DTSTAMP:20260421T223443
CREATED:20231213T190213Z
LAST-MODIFIED:20231219T190212Z
UID:10000502-1702944000-1703030399@spscarlton.salemk12.org
SUMMARY:Mad for Plaid Day
DESCRIPTION:
URL:https://spscarlton.salemk12.org/event/mad-for-plaid-day/
CATEGORIES:Carlton Innovation School
END:VEVENT
BEGIN:VEVENT
DTSTART;VALUE=DATE:20231218
DTEND;VALUE=DATE:20231219
DTSTAMP:20260421T223443
CREATED:20231213T190213Z
LAST-MODIFIED:20231218T190208Z
UID:10000503-1702857600-1702943999@spscarlton.salemk12.org
SUMMARY:Carlton Gear Day wear blue and green!
DESCRIPTION:
URL:https://spscarlton.salemk12.org/event/carlton-gear-day-wear-blue-and-green/
CATEGORIES:Carlton Innovation School
END:VEVENT
BEGIN:VEVENT
DTSTART;TZID=America/New_York:20231214T180000
DTEND;TZID=America/New_York:20231214T190000
DTSTAMP:20260421T223443
CREATED:20231110T233215Z
LAST-MODIFIED:20231214T190211Z
UID:10000496-1702576800-1702580400@spscarlton.salemk12.org
SUMMARY:Latino Family Night
DESCRIPTION:
URL:https://spscarlton.salemk12.org/event/latino-family-night/
CATEGORIES:Carlton Innovation School
END:VEVENT
BEGIN:VEVENT
DTSTART;TZID=America/New_York:20231212T090000
DTEND;TZID=America/New_York:20231212T133000
DTSTAMP:20260421T223443
CREATED:20231130T183211Z
LAST-MODIFIED:20231211T190210Z
UID:10000500-1702371600-1702387800@spscarlton.salemk12.org
SUMMARY:Visit From Polished Dental- Tuesday\, December 12
DESCRIPTION:
URL:https://spscarlton.salemk12.org/event/visit-from-polished-dental-tuesday-december-12/
CATEGORIES:Carlton Innovation School
END:VEVENT
BEGIN:VEVENT
DTSTART;VALUE=DATE:20231128
DTEND;VALUE=DATE:20231129
DTSTAMP:20260421T223443
CREATED:20231101T233211Z
LAST-MODIFIED:20231128T183212Z
UID:10000672-1701129600-1701215999@spscarlton.salemk12.org
SUMMARY:Picture Day Makeup Day
DESCRIPTION:
URL:https://spscarlton.salemk12.org/event/picture-day-makeup-day/
CATEGORIES:Carlton Innovation School
END:VEVENT
BEGIN:VEVENT
DTSTART;TZID=America/New_York:20231117T083500
DTEND;TZID=America/New_York:20231117T120500
DTSTAMP:20260421T223443
CREATED:20231115T234812Z
LAST-MODIFIED:20231116T234812Z
UID:10000498-1700210100-1700222700@spscarlton.salemk12.org
SUMMARY:Early Dismissal
DESCRIPTION:
URL:https://spscarlton.salemk12.org/event/early-dismissal/
CATEGORIES:Carlton Innovation School
END:VEVENT
BEGIN:VEVENT
DTSTART;TZID=America/New_York:20231116T173000
DTEND;TZID=America/New_York:20231116T193000
DTSTAMP:20260421T223443
CREATED:20231011T223210Z
LAST-MODIFIED:20231116T234812Z
UID:10000665-1700155800-1700163000@spscarlton.salemk12.org
SUMMARY:Spaghetti Dinner
DESCRIPTION:
URL:https://spscarlton.salemk12.org/event/spaghetti-dinner/
CATEGORIES:Carlton Innovation School
END:VEVENT
BEGIN:VEVENT
DTSTART;TZID=America/New_York:20231114T183000
DTEND;TZID=America/New_York:20231114T193000
DTSTAMP:20260421T223443
CREATED:20231103T233212Z
LAST-MODIFIED:20231114T234812Z
UID:10000495-1699986600-1699990200@spscarlton.salemk12.org
SUMMARY:Carlton PTO Meeting
DESCRIPTION:
URL:https://spscarlton.salemk12.org/event/carlton-pto-meeting/
CATEGORIES:Carlton Innovation School
END:VEVENT
BEGIN:VEVENT
DTSTART;TZID=America/New_York:20231110T130000
DTEND;TZID=America/New_York:20231110T140000
DTSTAMP:20260421T223443
CREATED:20231103T233212Z
LAST-MODIFIED:20231109T233214Z
UID:10000673-1699621200-1699624800@spscarlton.salemk12.org
SUMMARY:No School
DESCRIPTION:
URL:https://spscarlton.salemk12.org/event/no-school-4/
CATEGORIES:Carlton Innovation School
END:VEVENT
BEGIN:VEVENT
DTSTART;VALUE=DATE:20231101
DTEND;VALUE=DATE:20231102
DTSTAMP:20260421T223443
CREATED:20231027T231811Z
LAST-MODIFIED:20231101T233210Z
UID:10000671-1698796800-1698883199@spscarlton.salemk12.org
SUMMARY:No School for Carlton
DESCRIPTION:
URL:https://spscarlton.salemk12.org/event/no-school-for-carlton/
CATEGORIES:Carlton Innovation School
END:VEVENT
BEGIN:VEVENT
DTSTART;VALUE=DATE:20231031
DTEND;VALUE=DATE:20231101
DTSTAMP:20260421T223443
CREATED:20231027T231811Z
LAST-MODIFIED:20231031T233211Z
UID:10000669-1698710400-1698796799@spscarlton.salemk12.org
SUMMARY:No School
DESCRIPTION:
URL:https://spscarlton.salemk12.org/event/no-school-2/
CATEGORIES:Carlton Innovation School
END:VEVENT
BEGIN:VEVENT
DTSTART;VALUE=DATE:20231030
DTEND;VALUE=DATE:20231031
DTSTAMP:20260421T223443
CREATED:20231027T231811Z
LAST-MODIFIED:20231030T231811Z
UID:10000670-1698624000-1698710399@spscarlton.salemk12.org
SUMMARY:No School
DESCRIPTION:
URL:https://spscarlton.salemk12.org/event/no-school-3/
CATEGORIES:Carlton Innovation School
END:VEVENT
BEGIN:VEVENT
DTSTART;VALUE=DATE:20231027
DTEND;VALUE=DATE:20231028
DTSTAMP:20260421T223443
CREATED:20231027T231810Z
LAST-MODIFIED:20231027T231810Z
UID:10000668-1698364800-1698451199@spscarlton.salemk12.org
SUMMARY:Pijama Day!!
DESCRIPTION:
URL:https://spscarlton.salemk12.org/event/pijama-day/
CATEGORIES:Carlton Innovation School
END:VEVENT
END:VCALENDAR