BEGIN:VCALENDAR
VERSION:2.0
PRODID:-//Carlton Innovation School - ECPv6.15.18//NONSGML v1.0//EN
CALSCALE:GREGORIAN
METHOD:PUBLISH
X-WR-CALNAME:Carlton Innovation School
X-ORIGINAL-URL:https://spscarlton.salemk12.org
X-WR-CALDESC:Events for Carlton Innovation School
REFRESH-INTERVAL;VALUE=DURATION:PT1H
X-Robots-Tag:noindex
X-PUBLISHED-TTL:PT1H
BEGIN:VTIMEZONE
TZID:America/New_York
BEGIN:DAYLIGHT
TZOFFSETFROM:-0500
TZOFFSETTO:-0400
TZNAME:EDT
DTSTART:20230312T070000
END:DAYLIGHT
BEGIN:STANDARD
TZOFFSETFROM:-0400
TZOFFSETTO:-0500
TZNAME:EST
DTSTART:20231105T060000
END:STANDARD
BEGIN:DAYLIGHT
TZOFFSETFROM:-0500
TZOFFSETTO:-0400
TZNAME:EDT
DTSTART:20240310T070000
END:DAYLIGHT
BEGIN:STANDARD
TZOFFSETFROM:-0400
TZOFFSETTO:-0500
TZNAME:EST
DTSTART:20241103T060000
END:STANDARD
BEGIN:DAYLIGHT
TZOFFSETFROM:-0500
TZOFFSETTO:-0400
TZNAME:EDT
DTSTART:20250309T070000
END:DAYLIGHT
BEGIN:STANDARD
TZOFFSETFROM:-0400
TZOFFSETTO:-0500
TZNAME:EST
DTSTART:20251102T060000
END:STANDARD
END:VTIMEZONE
BEGIN:VEVENT
DTSTART;TZID=America/New_York:20240611T183000
DTEND;TZID=America/New_York:20240611T193000
DTSTAMP:20260421T172749
CREATED:20240311T181824Z
LAST-MODIFIED:20240611T223210Z
UID:10000710-1718130600-1718134200@spscarlton.salemk12.org
SUMMARY:Carlton PTO
DESCRIPTION:
URL:https://spscarlton.salemk12.org/event/carlton-pto-55/
CATEGORIES:Carlton Innovation School
END:VEVENT
BEGIN:VEVENT
DTSTART;TZID=America/New_York:20240611T183000
DTEND;TZID=America/New_York:20240611T193000
DTSTAMP:20260421T172749
CREATED:20240212T214828Z
LAST-MODIFIED:20240611T223210Z
UID:10000690-1718130600-1718134200@spscarlton.salemk12.org
SUMMARY:Carlton PTO
DESCRIPTION:
URL:https://spscarlton.salemk12.org/event/carlton-pto-9/
CATEGORIES:Carlton Innovation School
END:VEVENT
BEGIN:VEVENT
DTSTART;VALUE=DATE:20240607
DTEND;VALUE=DATE:20240608
DTSTAMP:20260421T172749
CREATED:20240510T213226Z
LAST-MODIFIED:20240607T223212Z
UID:10000558-1717718400-1717804799@spscarlton.salemk12.org
SUMMARY:Field Day
DESCRIPTION:
URL:https://spscarlton.salemk12.org/event/field-day-3/
CATEGORIES:Carlton Innovation School
END:VEVENT
BEGIN:VEVENT
DTSTART;TZID=America/New_York:20240606T180000
DTEND;TZID=America/New_York:20240606T200000
DTSTAMP:20260421T172749
CREATED:20240402T194810Z
LAST-MODIFIED:20240606T223213Z
UID:10000729-1717696800-1717704000@spscarlton.salemk12.org
SUMMARY:Celebration of Learning
DESCRIPTION:
URL:https://spscarlton.salemk12.org/event/celebration-of-learning-2/
CATEGORIES:Carlton Innovation School
END:VEVENT
BEGIN:VEVENT
DTSTART;VALUE=DATE:20240606
DTEND;VALUE=DATE:20240607
DTSTAMP:20260421T172749
CREATED:20240510T213227Z
LAST-MODIFIED:20240606T223213Z
UID:10000559-1717632000-1717718399@spscarlton.salemk12.org
SUMMARY:E2 Cook Out Winter Island
DESCRIPTION:
URL:https://spscarlton.salemk12.org/event/e2-cook-out-winter-island/
CATEGORIES:Carlton Innovation School
END:VEVENT
BEGIN:VEVENT
DTSTART;TZID=America/New_York:20240605T180000
DTEND;TZID=America/New_York:20240605T200000
DTSTAMP:20260421T172749
CREATED:20240402T194755Z
LAST-MODIFIED:20240605T221709Z
UID:10000730-1717610400-1717617600@spscarlton.salemk12.org
SUMMARY:Celebration of Learning
DESCRIPTION:
URL:https://spscarlton.salemk12.org/event/celebration-of-learning/
CATEGORIES:Carlton Innovation School
END:VEVENT
BEGIN:VEVENT
DTSTART;TZID=America/New_York:20240605T133000
DTEND;TZID=America/New_York:20240605T143000
DTSTAMP:20260421T172749
CREATED:20240327T193213Z
LAST-MODIFIED:20240604T221812Z
UID:10000545-1717594200-1717597800@spscarlton.salemk12.org
SUMMARY:E2 Strings and Band Concert
DESCRIPTION:
URL:https://spscarlton.salemk12.org/event/e2-strings-and-band-concert/
CATEGORIES:Carlton Innovation School
END:VEVENT
BEGIN:VEVENT
DTSTART;VALUE=DATE:20240603
DTEND;VALUE=DATE:20240604
DTSTAMP:20260421T172749
CREATED:20240510T213226Z
LAST-MODIFIED:20240603T221811Z
UID:10000738-1717372800-1717459199@spscarlton.salemk12.org
SUMMARY:No School- Full Transition Day
DESCRIPTION:
URL:https://spscarlton.salemk12.org/event/no-school-full-transition-day/
CATEGORIES:Carlton Innovation School
END:VEVENT
BEGIN:VEVENT
DTSTART;TZID=America/New_York:20240601T120000
DTEND;TZID=America/New_York:20240601T150000
DTSTAMP:20260421T172749
CREATED:20240516T221813Z
LAST-MODIFIED:20240531T221706Z
UID:10000561-1717243200-1717254000@spscarlton.salemk12.org
SUMMARY:Carlton's End of Year Multicultural Picnic
DESCRIPTION:
URL:https://spscarlton.salemk12.org/event/carltons-end-of-year-multicultural-picnic/
CATEGORIES:Carlton Innovation School
END:VEVENT
BEGIN:VEVENT
DTSTART;TZID=America/New_York:20240530T090000
DTEND;TZID=America/New_York:20240530T120000
DTSTAMP:20260421T172750
CREATED:20240402T194755Z
LAST-MODIFIED:20240529T221813Z
UID:10000557-1717059600-1717070400@spscarlton.salemk12.org
SUMMARY:Unified Sports Day
DESCRIPTION:
URL:https://spscarlton.salemk12.org/event/unified-sports-day/
CATEGORIES:Carlton Innovation School
END:VEVENT
BEGIN:VEVENT
DTSTART;TZID=America/New_York:20240528T130500
DTEND;TZID=America/New_York:20240528T135500
DTSTAMP:20260421T172750
CREATED:20240402T194755Z
LAST-MODIFIED:20240527T221713Z
UID:10000556-1716901500-1716904500@spscarlton.salemk12.org
SUMMARY:4th grade author visit
DESCRIPTION:More details to follow.
URL:https://spscarlton.salemk12.org/event/4th-grade-author-visit/
CATEGORIES:Carlton Innovation School
END:VEVENT
BEGIN:VEVENT
DTSTART;VALUE=DATE:20240527
DTEND;VALUE=DATE:20240528
DTSTAMP:20260421T172750
CREATED:20240402T194755Z
LAST-MODIFIED:20240527T221713Z
UID:10000555-1716768000-1716854399@spscarlton.salemk12.org
SUMMARY:No School (Holiday)
DESCRIPTION:Memorial Day
URL:https://spscarlton.salemk12.org/event/no-school-holiday/
CATEGORIES:Carlton Innovation School
END:VEVENT
BEGIN:VEVENT
DTSTART;TZID=America/New_York:20240522T083500
DTEND;TZID=America/New_York:20240522T120500
DTSTAMP:20260421T172750
CREATED:20240402T194754Z
LAST-MODIFIED:20240521T221814Z
UID:10000554-1716366900-1716379500@spscarlton.salemk12.org
SUMMARY:Early Release Day
DESCRIPTION:Carlton early release time: 12:05pm
URL:https://spscarlton.salemk12.org/event/early-release-day-4/
CATEGORIES:Carlton Innovation School
END:VEVENT
BEGIN:VEVENT
DTSTART;TZID=America/New_York:20240516T183000
DTEND;TZID=America/New_York:20240516T193000
DTSTAMP:20260421T172750
CREATED:20240212T214828Z
LAST-MODIFIED:20240513T213213Z
UID:10000689-1715884200-1715887800@spscarlton.salemk12.org
SUMMARY:Carlton PTO
DESCRIPTION:
URL:https://spscarlton.salemk12.org/event/carlton-pto-8/
CATEGORIES:Carlton Innovation School
END:VEVENT
BEGIN:VEVENT
DTSTART;VALUE=DATE:20240516
DTEND;VALUE=DATE:20240517
DTSTAMP:20260421T172750
CREATED:20240402T194754Z
LAST-MODIFIED:20240516T221813Z
UID:10000551-1715817600-1715903999@spscarlton.salemk12.org
SUMMARY:STE MCAS 5 Session 2
DESCRIPTION:
URL:https://spscarlton.salemk12.org/event/ste-mcas-5-session-2/
CATEGORIES:Carlton Innovation School
END:VEVENT
BEGIN:VEVENT
DTSTART;VALUE=DATE:20240515
DTEND;VALUE=DATE:20240516
DTSTAMP:20260421T172750
CREATED:20240402T194754Z
LAST-MODIFIED:20240515T220222Z
UID:10000552-1715731200-1715817599@spscarlton.salemk12.org
SUMMARY:Math MCAS 4 Session 2
DESCRIPTION:
URL:https://spscarlton.salemk12.org/event/math-mcas-4-session-2/
CATEGORIES:Carlton Innovation School
END:VEVENT
BEGIN:VEVENT
DTSTART;TZID=America/New_York:20240514T183000
DTEND;TZID=America/New_York:20240514T193000
DTSTAMP:20260421T172750
CREATED:20240311T181812Z
LAST-MODIFIED:20240514T214814Z
UID:10000709-1715711400-1715715000@spscarlton.salemk12.org
SUMMARY:Carlton PTO
DESCRIPTION:
URL:https://spscarlton.salemk12.org/event/carlton-pto-54/
CATEGORIES:Carlton Innovation School
END:VEVENT
BEGIN:VEVENT
DTSTART;TZID=America/New_York:20240514T183000
DTEND;TZID=America/New_York:20240514T193000
DTSTAMP:20260421T172750
CREATED:20240212T214828Z
LAST-MODIFIED:20240514T214814Z
UID:10000688-1715711400-1715715000@spscarlton.salemk12.org
SUMMARY:Carlton PTO
DESCRIPTION:
URL:https://spscarlton.salemk12.org/event/carlton-pto-7/
CATEGORIES:Carlton Innovation School
END:VEVENT
BEGIN:VEVENT
DTSTART;VALUE=DATE:20240514
DTEND;VALUE=DATE:20240515
DTSTAMP:20260421T172750
CREATED:20240402T194754Z
LAST-MODIFIED:20240514T214814Z
UID:10000553-1715644800-1715731199@spscarlton.salemk12.org
SUMMARY:STE MCAS 5 Session 1
DESCRIPTION:
URL:https://spscarlton.salemk12.org/event/ste-mcas-5-session-1/
CATEGORIES:Carlton Innovation School
END:VEVENT
BEGIN:VEVENT
DTSTART;VALUE=DATE:20240509
DTEND;VALUE=DATE:20240510
DTSTAMP:20260421T172750
CREATED:20240402T194742Z
LAST-MODIFIED:20240509T213215Z
UID:10000549-1715212800-1715299199@spscarlton.salemk12.org
SUMMARY:Math MCAS 4 Session 1
DESCRIPTION:
URL:https://spscarlton.salemk12.org/event/math-mcas-4-session-1/
CATEGORIES:Carlton Innovation School
END:VEVENT
BEGIN:VEVENT
DTSTART;VALUE=DATE:20240508
DTEND;VALUE=DATE:20240509
DTSTAMP:20260421T172750
CREATED:20240402T194742Z
LAST-MODIFIED:20240508T213223Z
UID:10000550-1715126400-1715212799@spscarlton.salemk12.org
SUMMARY:Math MCAS 3 Session 1
DESCRIPTION:
URL:https://spscarlton.salemk12.org/event/math-mcas-3-session-1-2/
CATEGORIES:Carlton Innovation School
END:VEVENT
BEGIN:VEVENT
DTSTART;VALUE=DATE:20240507
DTEND;VALUE=DATE:20240508
DTSTAMP:20260421T172750
CREATED:20240402T194742Z
LAST-MODIFIED:20240507T213213Z
UID:10000548-1715040000-1715126399@spscarlton.salemk12.org
SUMMARY:Math MCAS 5 Session 1
DESCRIPTION:
URL:https://spscarlton.salemk12.org/event/math-mcas-5-session-1-2/
CATEGORIES:Carlton Innovation School
END:VEVENT
BEGIN:VEVENT
DTSTART;VALUE=DATE:20240502
DTEND;VALUE=DATE:20240503
DTSTAMP:20260421T172750
CREATED:20240402T194742Z
LAST-MODIFIED:20240502T213212Z
UID:10000728-1714608000-1714694399@spscarlton.salemk12.org
SUMMARY:Math MCAS 3 Session 1
DESCRIPTION:
URL:https://spscarlton.salemk12.org/event/math-mcas-3-session-1/
CATEGORIES:Carlton Innovation School
END:VEVENT
BEGIN:VEVENT
DTSTART;VALUE=DATE:20240501
DTEND;VALUE=DATE:20240502
DTSTAMP:20260421T172750
CREATED:20240402T194742Z
LAST-MODIFIED:20240501T213213Z
UID:10000727-1714521600-1714607999@spscarlton.salemk12.org
SUMMARY:Math MCAS 5 Session 1
DESCRIPTION:
URL:https://spscarlton.salemk12.org/event/math-mcas-5-session-1/
CATEGORIES:Carlton Innovation School
END:VEVENT
BEGIN:VEVENT
DTSTART;TZID=America/New_York:20240418T183000
DTEND;TZID=America/New_York:20240418T193000
DTSTAMP:20260421T172750
CREATED:20240212T214828Z
LAST-MODIFIED:20240418T203213Z
UID:10000687-1713465000-1713468600@spscarlton.salemk12.org
SUMMARY:Carlton PTO
DESCRIPTION:
URL:https://spscarlton.salemk12.org/event/carlton-pto-6/
CATEGORIES:Carlton Innovation School
END:VEVENT
BEGIN:VEVENT
DTSTART;VALUE=DATE:20240415
DTEND;VALUE=DATE:20240420
DTSTAMP:20260421T172750
CREATED:20240402T194742Z
LAST-MODIFIED:20240419T203213Z
UID:10000725-1713139200-1713571199@spscarlton.salemk12.org
SUMMARY:Spring Break-No School
DESCRIPTION:
URL:https://spscarlton.salemk12.org/event/spring-break-no-school/
CATEGORIES:Carlton Innovation School
END:VEVENT
BEGIN:VEVENT
DTSTART;VALUE=DATE:20240411
DTEND;VALUE=DATE:20240412
DTSTAMP:20260421T172750
CREATED:20240402T194742Z
LAST-MODIFIED:20240411T201813Z
UID:10000726-1712793600-1712879999@spscarlton.salemk12.org
SUMMARY:ELA MCAS 5 Session 2
DESCRIPTION:
URL:https://spscarlton.salemk12.org/event/ela-mcas-5-session-2/
CATEGORIES:Carlton Innovation School
END:VEVENT
BEGIN:VEVENT
DTSTART;VALUE=DATE:20240410
DTEND;VALUE=DATE:20240411
DTSTAMP:20260421T172750
CREATED:20240402T194730Z
LAST-MODIFIED:20240410T201805Z
UID:10000724-1712707200-1712793599@spscarlton.salemk12.org
SUMMARY:ELA MCAS 3 Session 2
DESCRIPTION:
URL:https://spscarlton.salemk12.org/event/ela-mcas-3-session-2/
CATEGORIES:Carlton Innovation School
END:VEVENT
BEGIN:VEVENT
DTSTART;TZID=America/New_York:20240409T183000
DTEND;TZID=America/New_York:20240409T193000
DTSTAMP:20260421T172750
CREATED:20240311T181812Z
LAST-MODIFIED:20240409T200214Z
UID:10000708-1712687400-1712691000@spscarlton.salemk12.org
SUMMARY:Carlton PTO
DESCRIPTION:
URL:https://spscarlton.salemk12.org/event/carlton-pto-53/
CATEGORIES:Carlton Innovation School
END:VEVENT
BEGIN:VEVENT
DTSTART;TZID=America/New_York:20240409T183000
DTEND;TZID=America/New_York:20240409T193000
DTSTAMP:20260421T172750
CREATED:20240212T214817Z
LAST-MODIFIED:20240409T200214Z
UID:10000686-1712687400-1712691000@spscarlton.salemk12.org
SUMMARY:Carlton PTO
DESCRIPTION:
URL:https://spscarlton.salemk12.org/event/carlton-pto-5/
CATEGORIES:Carlton Innovation School
END:VEVENT
END:VCALENDAR