BEGIN:VCALENDAR
VERSION:2.0
PRODID:-//Carlton Innovation School - ECPv6.15.18//NONSGML v1.0//EN
CALSCALE:GREGORIAN
METHOD:PUBLISH
X-WR-CALNAME:Carlton Innovation School
X-ORIGINAL-URL:https://spscarlton.salemk12.org
X-WR-CALDESC:Events for Carlton Innovation School
REFRESH-INTERVAL;VALUE=DURATION:PT1H
X-Robots-Tag:noindex
X-PUBLISHED-TTL:PT1H
BEGIN:VTIMEZONE
TZID:America/New_York
BEGIN:DAYLIGHT
TZOFFSETFROM:-0500
TZOFFSETTO:-0400
TZNAME:EDT
DTSTART:20230312T070000
END:DAYLIGHT
BEGIN:STANDARD
TZOFFSETFROM:-0400
TZOFFSETTO:-0500
TZNAME:EST
DTSTART:20231105T060000
END:STANDARD
BEGIN:DAYLIGHT
TZOFFSETFROM:-0500
TZOFFSETTO:-0400
TZNAME:EDT
DTSTART:20240310T070000
END:DAYLIGHT
BEGIN:STANDARD
TZOFFSETFROM:-0400
TZOFFSETTO:-0500
TZNAME:EST
DTSTART:20241103T060000
END:STANDARD
BEGIN:DAYLIGHT
TZOFFSETFROM:-0500
TZOFFSETTO:-0400
TZNAME:EDT
DTSTART:20250309T070000
END:DAYLIGHT
BEGIN:STANDARD
TZOFFSETFROM:-0400
TZOFFSETTO:-0500
TZNAME:EST
DTSTART:20251102T060000
END:STANDARD
END:VTIMEZONE
BEGIN:VEVENT
DTSTART;TZID=America/New_York:20240925T180000
DTEND;TZID=America/New_York:20240925T200000
DTSTAMP:20260421T135617
CREATED:20240902T214725Z
LAST-MODIFIED:20240925T223217Z
UID:10000571-1727287200-1727294400@spscarlton.salemk12.org
SUMMARY:Instrument Rental Night @ Saltonstall Auditorium
DESCRIPTION:
URL:https://spscarlton.salemk12.org/event/instrument-rental-night-saltonstall-auditorium/
LOCATION:Saltonstall School\, 211 Lafayette St\, Salem\, MA\, United States
CATEGORIES:Carlton Innovation School
GEO:42.512742;-70.892231
X-APPLE-STRUCTURED-LOCATION;VALUE=URI;X-ADDRESS=Saltonstall School 211 Lafayette St Salem MA United States;X-APPLE-RADIUS=500;X-TITLE=211 Lafayette St:geo:-70.892231,42.512742
END:VEVENT
BEGIN:VEVENT
DTSTART;VALUE=DATE:20240925
DTEND;VALUE=DATE:20240926
DTSTAMP:20260421T135617
CREATED:20240717T184813Z
LAST-MODIFIED:20240925T223217Z
UID:10000745-1727222400-1727308799@spscarlton.salemk12.org
SUMMARY:Early Release - 12:05pm
DESCRIPTION:
URL:https://spscarlton.salemk12.org/event/early-release-1205pm/
CATEGORIES:Carlton Innovation School
END:VEVENT
BEGIN:VEVENT
DTSTART;TZID=America/New_York:20240919T183000
DTEND;TZID=America/New_York:20240919T193000
DTSTAMP:20260421T135617
CREATED:20240212T214841Z
LAST-MODIFIED:20240513T213249Z
UID:10000514-1726770600-1726774200@spscarlton.salemk12.org
SUMMARY:Carlton PTO
DESCRIPTION:
URL:https://spscarlton.salemk12.org/event/carlton-pto-16/
CATEGORIES:Carlton Innovation School
END:VEVENT
BEGIN:VEVENT
DTSTART;TZID=America/New_York:20240918T180000
DTEND;TZID=America/New_York:20240918T193000
DTSTAMP:20260421T135617
CREATED:20240703T183217Z
LAST-MODIFIED:20240918T221731Z
UID:10000743-1726682400-1726687800@spscarlton.salemk12.org
SUMMARY:Open House
DESCRIPTION:
URL:https://spscarlton.salemk12.org/event/open-house-2/
CATEGORIES:Carlton Innovation School
END:VEVENT
BEGIN:VEVENT
DTSTART;TZID=America/New_York:20240918T180000
DTEND;TZID=America/New_York:20240918T193000
DTSTAMP:20260421T135617
CREATED:20240703T171413Z
LAST-MODIFIED:20240703T171910Z
UID:10000742-1726682400-1726687800@spscarlton.salemk12.org
SUMMARY:Carlton Innovation School Open House
DESCRIPTION:
URL:https://spscarlton.salemk12.org/event/carlton-open-house-2/
LOCATION:Carlton Innovation School\, 10 Skerry St\, Salem\, MA 01970\, USA
CATEGORIES:District
END:VEVENT
BEGIN:VEVENT
DTSTART;TZID=America/New_York:20240910T183000
DTEND;TZID=America/New_York:20240910T193000
DTSTAMP:20260421T135617
CREATED:20240311T181825Z
LAST-MODIFIED:20240807T204748Z
UID:10000713-1725993000-1725996600@spscarlton.salemk12.org
SUMMARY:Carlton PTO
DESCRIPTION:
URL:https://spscarlton.salemk12.org/event/carlton-pto-58/
CATEGORIES:Carlton Innovation School
END:VEVENT
BEGIN:VEVENT
DTSTART;TZID=America/New_York:20240904T180000
DTEND;TZID=America/New_York:20240904T190000
DTSTAMP:20260421T135617
CREATED:20240812T204712Z
LAST-MODIFIED:20240904T220218Z
UID:10000569-1725472800-1725476400@spscarlton.salemk12.org
SUMMARY:The Farm School 5th grade Caregiver Information Night
DESCRIPTION:
URL:https://spscarlton.salemk12.org/event/the-farm-school-5th-grade-caregiver-information-night/
CATEGORIES:Carlton Innovation School
END:VEVENT
BEGIN:VEVENT
DTSTART;VALUE=DATE:20240904
DTEND;VALUE=DATE:20240905
DTSTAMP:20260421T135617
CREATED:20240717T184812Z
LAST-MODIFIED:20240904T220218Z
UID:10000746-1725408000-1725494399@spscarlton.salemk12.org
SUMMARY:First Day of School - P1(Kindergarten)
DESCRIPTION:
URL:https://spscarlton.salemk12.org/event/first-day-of-school-p1kindergarten/
CATEGORIES:Carlton Innovation School
END:VEVENT
BEGIN:VEVENT
DTSTART;TZID=America/New_York:20240829T180000
DTEND;TZID=America/New_York:20240829T190000
DTSTAMP:20260421T135617
CREATED:20240828T213214Z
LAST-MODIFIED:20240829T214815Z
UID:10000570-1724954400-1724958000@spscarlton.salemk12.org
SUMMARY:New P1 Students and Caregivers - Scavenger Hunt
DESCRIPTION:
URL:https://spscarlton.salemk12.org/event/new-p1-students-and-caregivers-scavenger-hunt/
CATEGORIES:Carlton Innovation School
END:VEVENT
BEGIN:VEVENT
DTSTART;VALUE=DATE:20240828
DTEND;VALUE=DATE:20240829
DTSTAMP:20260421T135617
CREATED:20240717T184812Z
LAST-MODIFIED:20240828T213214Z
UID:10000747-1724803200-1724889599@spscarlton.salemk12.org
SUMMARY:First Day of School - P2(1/2)\, E1(3)\, & E2(4/5)
DESCRIPTION:
URL:https://spscarlton.salemk12.org/event/first-day-of-school-p21-2-e13-e24-5/
CATEGORIES:Carlton Innovation School
END:VEVENT
BEGIN:VEVENT
DTSTART;TZID=America/New_York:20240815T183000
DTEND;TZID=America/New_York:20240815T193000
DTSTAMP:20260421T135617
CREATED:20240212T214829Z
LAST-MODIFIED:20240513T213248Z
UID:10000693-1723746600-1723750200@spscarlton.salemk12.org
SUMMARY:Carlton PTO
DESCRIPTION:
URL:https://spscarlton.salemk12.org/event/carlton-pto-14/
CATEGORIES:Carlton Innovation School
END:VEVENT
BEGIN:VEVENT
DTSTART;TZID=America/New_York:20240815T150000
DTEND;TZID=America/New_York:20240815T163000
DTSTAMP:20260421T135617
CREATED:20240809T204759Z
LAST-MODIFIED:20240814T210215Z
UID:10000568-1723734000-1723739400@spscarlton.salemk12.org
SUMMARY:Door Knocking at Rainbow Terrace
DESCRIPTION:
URL:https://spscarlton.salemk12.org/event/door-knocking-at-rainbow-terrace/
CATEGORIES:Carlton Innovation School
END:VEVENT
BEGIN:VEVENT
DTSTART;TZID=America/New_York:20240813T183000
DTEND;TZID=America/New_York:20240813T193000
DTSTAMP:20260421T135617
CREATED:20240311T181825Z
LAST-MODIFIED:20240807T204748Z
UID:10000712-1723573800-1723577400@spscarlton.salemk12.org
SUMMARY:Carlton PTO
DESCRIPTION:
URL:https://spscarlton.salemk12.org/event/carlton-pto-57/
CATEGORIES:Carlton Innovation School
END:VEVENT
BEGIN:VEVENT
DTSTART;TZID=America/New_York:20240718T183000
DTEND;TZID=America/New_York:20240718T193000
DTSTAMP:20260421T135617
CREATED:20240212T214829Z
LAST-MODIFIED:20240513T213237Z
UID:10000692-1721327400-1721331000@spscarlton.salemk12.org
SUMMARY:Carlton PTO
DESCRIPTION:
URL:https://spscarlton.salemk12.org/event/carlton-pto-12/
CATEGORIES:Carlton Innovation School
END:VEVENT
BEGIN:VEVENT
DTSTART;TZID=America/New_York:20240709T183000
DTEND;TZID=America/New_York:20240709T193000
DTSTAMP:20260421T135617
CREATED:20240311T181825Z
LAST-MODIFIED:20240709T183214Z
UID:10000711-1720549800-1720553400@spscarlton.salemk12.org
SUMMARY:Carlton PTO
DESCRIPTION:
URL:https://spscarlton.salemk12.org/event/carlton-pto-56/
CATEGORIES:Carlton Innovation School
END:VEVENT
BEGIN:VEVENT
DTSTART;TZID=America/New_York:20240620T183000
DTEND;TZID=America/New_York:20240620T193000
DTSTAMP:20260421T135617
CREATED:20240212T214829Z
LAST-MODIFIED:20240513T213237Z
UID:10000691-1718908200-1718911800@spscarlton.salemk12.org
SUMMARY:Carlton PTO
DESCRIPTION:
URL:https://spscarlton.salemk12.org/event/carlton-pto-10/
CATEGORIES:Carlton Innovation School
END:VEVENT
BEGIN:VEVENT
DTSTART;TZID=America/New_York:20240617T083500
DTEND;TZID=America/New_York:20240617T120500
DTSTAMP:20260421T135617
CREATED:20240508T213248Z
LAST-MODIFIED:20240616T230214Z
UID:10000737-1718613300-1718625900@spscarlton.salemk12.org
SUMMARY:Last Day of School P2\, E1\, E2
DESCRIPTION:
URL:https://spscarlton.salemk12.org/event/last-day-of-school-p2-e1-e2/
CATEGORIES:Carlton Innovation School
END:VEVENT
BEGIN:VEVENT
DTSTART;VALUE=DATE:20240615
DTEND;VALUE=DATE:20240616
DTSTAMP:20260421T135617
CREATED:20240508T213248Z
LAST-MODIFIED:20240509T213238Z
UID:10000734-1718409600-1718495999@spscarlton.salemk12.org
SUMMARY:Field Day
DESCRIPTION:
URL:https://spscarlton.salemk12.org/event/field-day-2/
CATEGORIES:Carlton Innovation School
END:VEVENT
BEGIN:VEVENT
DTSTART;TZID=America/New_York:20240614T083500
DTEND;TZID=America/New_York:20240614T144000
DTSTAMP:20260421T135617
CREATED:20240508T213248Z
LAST-MODIFIED:20240611T223210Z
UID:10000735-1718354100-1718376000@spscarlton.salemk12.org
SUMMARY:Last Day of School - P1
DESCRIPTION:
URL:https://spscarlton.salemk12.org/event/last-day-of-school-p1/
CATEGORIES:Carlton Innovation School
END:VEVENT
BEGIN:VEVENT
DTSTART;VALUE=DATE:20240614
DTEND;VALUE=DATE:20240615
DTSTAMP:20260421T135617
CREATED:20240402T194810Z
LAST-MODIFIED:20240614T230215Z
UID:10000733-1718323200-1718409599@spscarlton.salemk12.org
SUMMARY:E2 Cookout Rain date
DESCRIPTION:
URL:https://spscarlton.salemk12.org/event/e2-cookout-rain-date/
CATEGORIES:Carlton Innovation School
END:VEVENT
BEGIN:VEVENT
DTSTART;TZID=America/New_York:20240613T120000
DTEND;TZID=America/New_York:20240613T140000
DTSTAMP:20260421T135617
CREATED:20240402T194810Z
LAST-MODIFIED:20240611T223210Z
UID:10000732-1718280000-1718287200@spscarlton.salemk12.org
SUMMARY:E2 Moving on Ceremony
DESCRIPTION:
URL:https://spscarlton.salemk12.org/event/e2-moving-on-ceremony/
CATEGORIES:Carlton Innovation School
END:VEVENT
BEGIN:VEVENT
DTSTART;VALUE=DATE:20240613
DTEND;VALUE=DATE:20240614
DTSTAMP:20260421T135617
CREATED:20240402T194810Z
LAST-MODIFIED:20240613T224815Z
UID:10000736-1718236800-1718323199@spscarlton.salemk12.org
SUMMARY:Moving on Ceremony
DESCRIPTION:
URL:https://spscarlton.salemk12.org/event/moving-on-ceremony/
CATEGORIES:Carlton Innovation School
END:VEVENT
BEGIN:VEVENT
DTSTART;VALUE=DATE:20240612
DTEND;VALUE=DATE:20240613
DTSTAMP:20260421T135617
CREATED:20240402T194810Z
LAST-MODIFIED:20240611T223210Z
UID:10000731-1718150400-1718236799@spscarlton.salemk12.org
SUMMARY:E2 Field Trip Canobie
DESCRIPTION:
URL:https://spscarlton.salemk12.org/event/e2-field-trip-canobie/
CATEGORIES:Carlton Innovation School
END:VEVENT
BEGIN:VEVENT
DTSTART;TZID=America/New_York:20240611T183000
DTEND;TZID=America/New_York:20240611T193000
DTSTAMP:20260421T135617
CREATED:20240311T181824Z
LAST-MODIFIED:20240611T223210Z
UID:10000710-1718130600-1718134200@spscarlton.salemk12.org
SUMMARY:Carlton PTO
DESCRIPTION:
URL:https://spscarlton.salemk12.org/event/carlton-pto-55/
CATEGORIES:Carlton Innovation School
END:VEVENT
BEGIN:VEVENT
DTSTART;TZID=America/New_York:20240611T183000
DTEND;TZID=America/New_York:20240611T193000
DTSTAMP:20260421T135617
CREATED:20240212T214828Z
LAST-MODIFIED:20240611T223210Z
UID:10000690-1718130600-1718134200@spscarlton.salemk12.org
SUMMARY:Carlton PTO
DESCRIPTION:
URL:https://spscarlton.salemk12.org/event/carlton-pto-9/
CATEGORIES:Carlton Innovation School
END:VEVENT
BEGIN:VEVENT
DTSTART;VALUE=DATE:20240607
DTEND;VALUE=DATE:20240608
DTSTAMP:20260421T135617
CREATED:20240510T213226Z
LAST-MODIFIED:20240607T223212Z
UID:10000558-1717718400-1717804799@spscarlton.salemk12.org
SUMMARY:Field Day
DESCRIPTION:
URL:https://spscarlton.salemk12.org/event/field-day-3/
CATEGORIES:Carlton Innovation School
END:VEVENT
BEGIN:VEVENT
DTSTART;TZID=America/New_York:20240606T180000
DTEND;TZID=America/New_York:20240606T200000
DTSTAMP:20260421T135617
CREATED:20240402T194810Z
LAST-MODIFIED:20240606T223213Z
UID:10000729-1717696800-1717704000@spscarlton.salemk12.org
SUMMARY:Celebration of Learning
DESCRIPTION:
URL:https://spscarlton.salemk12.org/event/celebration-of-learning-2/
CATEGORIES:Carlton Innovation School
END:VEVENT
BEGIN:VEVENT
DTSTART;VALUE=DATE:20240606
DTEND;VALUE=DATE:20240607
DTSTAMP:20260421T135617
CREATED:20240510T213227Z
LAST-MODIFIED:20240606T223213Z
UID:10000559-1717632000-1717718399@spscarlton.salemk12.org
SUMMARY:E2 Cook Out Winter Island
DESCRIPTION:
URL:https://spscarlton.salemk12.org/event/e2-cook-out-winter-island/
CATEGORIES:Carlton Innovation School
END:VEVENT
BEGIN:VEVENT
DTSTART;TZID=America/New_York:20240605T180000
DTEND;TZID=America/New_York:20240605T200000
DTSTAMP:20260421T135617
CREATED:20240402T194755Z
LAST-MODIFIED:20240605T221709Z
UID:10000730-1717610400-1717617600@spscarlton.salemk12.org
SUMMARY:Celebration of Learning
DESCRIPTION:
URL:https://spscarlton.salemk12.org/event/celebration-of-learning/
CATEGORIES:Carlton Innovation School
END:VEVENT
BEGIN:VEVENT
DTSTART;TZID=America/New_York:20240605T133000
DTEND;TZID=America/New_York:20240605T143000
DTSTAMP:20260421T135617
CREATED:20240327T193213Z
LAST-MODIFIED:20240604T221812Z
UID:10000545-1717594200-1717597800@spscarlton.salemk12.org
SUMMARY:E2 Strings and Band Concert
DESCRIPTION:
URL:https://spscarlton.salemk12.org/event/e2-strings-and-band-concert/
CATEGORIES:Carlton Innovation School
END:VEVENT
END:VCALENDAR