BEGIN:VCALENDAR
VERSION:2.0
PRODID:-//Carlton Innovation School - ECPv6.15.18//NONSGML v1.0//EN
CALSCALE:GREGORIAN
METHOD:PUBLISH
X-WR-CALNAME:Carlton Innovation School
X-ORIGINAL-URL:https://spscarlton.salemk12.org
X-WR-CALDESC:Events for Carlton Innovation School
REFRESH-INTERVAL;VALUE=DURATION:PT1H
X-Robots-Tag:noindex
X-PUBLISHED-TTL:PT1H
BEGIN:VTIMEZONE
TZID:America/New_York
BEGIN:DAYLIGHT
TZOFFSETFROM:-0500
TZOFFSETTO:-0400
TZNAME:EDT
DTSTART:20230312T070000
END:DAYLIGHT
BEGIN:STANDARD
TZOFFSETFROM:-0400
TZOFFSETTO:-0500
TZNAME:EST
DTSTART:20231105T060000
END:STANDARD
BEGIN:DAYLIGHT
TZOFFSETFROM:-0500
TZOFFSETTO:-0400
TZNAME:EDT
DTSTART:20240310T070000
END:DAYLIGHT
BEGIN:STANDARD
TZOFFSETFROM:-0400
TZOFFSETTO:-0500
TZNAME:EST
DTSTART:20241103T060000
END:STANDARD
BEGIN:DAYLIGHT
TZOFFSETFROM:-0500
TZOFFSETTO:-0400
TZNAME:EDT
DTSTART:20250309T070000
END:DAYLIGHT
BEGIN:STANDARD
TZOFFSETFROM:-0400
TZOFFSETTO:-0500
TZNAME:EST
DTSTART:20251102T060000
END:STANDARD
BEGIN:DAYLIGHT
TZOFFSETFROM:-0500
TZOFFSETTO:-0400
TZNAME:EDT
DTSTART:20260308T070000
END:DAYLIGHT
BEGIN:STANDARD
TZOFFSETFROM:-0400
TZOFFSETTO:-0500
TZNAME:EST
DTSTART:20261101T060000
END:STANDARD
END:VTIMEZONE
BEGIN:VEVENT
DTSTART;TZID=America/New_York:20250206T173000
DTEND;TZID=America/New_York:20250206T190000
DTSTAMP:20260421T092915
CREATED:20250113T210234Z
LAST-MODIFIED:20250206T220217Z
UID:10000788-1738863000-1738868400@spscarlton.salemk12.org
SUMMARY:Early Ed Expo Meet & Greet
DESCRIPTION:In Person – ENGLISH.pngEarly Childhood Expo Events Guidelines \nLooking forward to bringing an in-person component back to the Early Ed Expo experience and bring more information to our community of families entering the Salem Public Schools. Please extend this invitation to your school or department-based teams who you'll be inviting to join you. More information will be coming soon!
URL:https://spscarlton.salemk12.org/event/early-ed-expo-meet-greet/
LOCATION:Collins Middle School Cafeteria
CATEGORIES:Carlton Innovation School
END:VEVENT
BEGIN:VEVENT
DTSTART;TZID=America/New_York:20250130T183000
DTEND;TZID=America/New_York:20250130T193000
DTSTAMP:20260421T092915
CREATED:20241121T190230Z
LAST-MODIFIED:20250123T210219Z
UID:10000783-1738261800-1738265400@spscarlton.salemk12.org
SUMMARY:E1&E2 Winter Concert
DESCRIPTION:
URL:https://spscarlton.salemk12.org/event/e1e2-winter-concert-2/
CATEGORIES:Carlton Innovation School
END:VEVENT
BEGIN:VEVENT
DTSTART;TZID=America/New_York:20250130T183000
DTEND;TZID=America/New_York:20250130T193000
DTSTAMP:20260421T092915
CREATED:20241025T233229Z
LAST-MODIFIED:20250123T210219Z
UID:10000766-1738261800-1738265400@spscarlton.salemk12.org
SUMMARY:E1&E2 Winter Concert
DESCRIPTION:
URL:https://spscarlton.salemk12.org/event/e1e2-winter-concert/
CATEGORIES:Carlton Innovation School
END:VEVENT
BEGIN:VEVENT
DTSTART;VALUE=DATE:20250130
DTEND;VALUE=DATE:20250131
DTSTAMP:20260421T092915
CREATED:20250124T210220Z
LAST-MODIFIED:20250130T213219Z
UID:10000790-1738195200-1738281599@spscarlton.salemk12.org
SUMMARY:POSTPONED - E1/E2 CONCERT
DESCRIPTION:
URL:https://spscarlton.salemk12.org/event/postponed-e1-e2-concert/
CATEGORIES:Carlton Innovation School
END:VEVENT
BEGIN:VEVENT
DTSTART;TZID=America/New_York:20250128T100000
DTEND;TZID=America/New_York:20250128T120000
DTSTAMP:20260421T092915
CREATED:20250124T210220Z
LAST-MODIFIED:20250127T211818Z
UID:10000789-1738058400-1738065600@spscarlton.salemk12.org
SUMMARY:On Site Enrollment at Salem Community Childcare on Tues. 1/28 @10-12p
DESCRIPTION:
URL:https://spscarlton.salemk12.org/event/on-site-enrollment-at-salem-community-childcare-on-tues-1-28-10-12p/
CATEGORIES:Carlton Innovation School
END:VEVENT
BEGIN:VEVENT
DTSTART;TZID=America/New_York:20250123T190000
DTEND;TZID=America/New_York:20250123T200000
DTSTAMP:20260421T092915
CREATED:20241118T173413Z
LAST-MODIFIED:20250123T210218Z
UID:10000778-1737658800-1737662400@spscarlton.salemk12.org
SUMMARY:All City Advanced Elementary Band & Orchestra Concert
DESCRIPTION:
URL:https://spscarlton.salemk12.org/event/all-city-advanced-elementary-band-orchestra-concert/
LOCATION:Salem High School\, 77 Willson St\, Salem\, MA\, United States
CATEGORIES:Carlton Innovation School
GEO:42.506487;-70.905406
X-APPLE-STRUCTURED-LOCATION;VALUE=URI;X-ADDRESS=Salem High School 77 Willson St Salem MA United States;X-APPLE-RADIUS=500;X-TITLE=77 Willson St:geo:-70.905406,42.506487
END:VEVENT
BEGIN:VEVENT
DTSTART;TZID=America/New_York:20250122T183000
DTEND;TZID=America/New_York:20250122T200000
DTSTAMP:20260421T092915
CREATED:20250102T201816Z
LAST-MODIFIED:20250122T210218Z
UID:10000785-1737570600-1737576000@spscarlton.salemk12.org
SUMMARY:Early Childhood Expo - Virtual Town Hall
DESCRIPTION:Meeting Link
URL:https://spscarlton.salemk12.org/event/early-childhood-expo-virtual-town-hall/
LOCATION:Zoom
CATEGORIES:Carlton Innovation School
END:VEVENT
BEGIN:VEVENT
DTSTART;TZID=America/New_York:20250122T132000
DTEND;TZID=America/New_York:20250122T142000
DTSTAMP:20260421T092915
CREATED:20241121T190230Z
LAST-MODIFIED:20250121T210219Z
UID:10000782-1737552000-1737555600@spscarlton.salemk12.org
SUMMARY:Instrumental Concert
DESCRIPTION:
URL:https://spscarlton.salemk12.org/event/instrumental-concert/
LOCATION:Carlton Cafe
CATEGORIES:Carlton Innovation School
END:VEVENT
BEGIN:VEVENT
DTSTART;VALUE=DATE:20250120
DTEND;VALUE=DATE:20250121
DTSTAMP:20260421T092915
CREATED:20240902T214737Z
LAST-MODIFIED:20250120T210218Z
UID:10000757-1737331200-1737417599@spscarlton.salemk12.org
SUMMARY:No School - Holiday
DESCRIPTION:
URL:https://spscarlton.salemk12.org/event/no-school-holiday-4/
CATEGORIES:Carlton Innovation School
END:VEVENT
BEGIN:VEVENT
DTSTART;TZID=America/New_York:20250116T183000
DTEND;TZID=America/New_York:20250116T193000
DTSTAMP:20260421T092915
CREATED:20240212T214841Z
LAST-MODIFIED:20240513T213300Z
UID:10000520-1737052200-1737055800@spscarlton.salemk12.org
SUMMARY:Carlton PTO
DESCRIPTION:
URL:https://spscarlton.salemk12.org/event/carlton-pto-24/
CATEGORIES:Carlton Innovation School
END:VEVENT
BEGIN:VEVENT
DTSTART;TZID=America/New_York:20250114T183000
DTEND;TZID=America/New_York:20250114T193000
DTSTAMP:20260421T092915
CREATED:20240311T181848Z
LAST-MODIFIED:20240807T204801Z
UID:10000717-1736879400-1736883000@spscarlton.salemk12.org
SUMMARY:Carlton PTO
DESCRIPTION:
URL:https://spscarlton.salemk12.org/event/carlton-pto-62/
CATEGORIES:Carlton Innovation School
END:VEVENT
BEGIN:VEVENT
DTSTART;VALUE=DATE:20241223
DTEND;VALUE=DATE:20250102
DTSTAMP:20260421T092915
CREATED:20240902T214737Z
LAST-MODIFIED:20241225T190220Z
UID:10000758-1734912000-1735775999@spscarlton.salemk12.org
SUMMARY:Winter Break
DESCRIPTION:
URL:https://spscarlton.salemk12.org/event/winter-break-2/
CATEGORIES:Carlton Innovation School
END:VEVENT
BEGIN:VEVENT
DTSTART;TZID=America/New_York:20241219T183000
DTEND;TZID=America/New_York:20241219T193000
DTSTAMP:20260421T092915
CREATED:20240212T214841Z
LAST-MODIFIED:20240513T213300Z
UID:10000519-1734633000-1734636600@spscarlton.salemk12.org
SUMMARY:Carlton PTO
DESCRIPTION:
URL:https://spscarlton.salemk12.org/event/carlton-pto-22/
CATEGORIES:Carlton Innovation School
END:VEVENT
BEGIN:VEVENT
DTSTART;VALUE=DATE:20241219
DTEND;VALUE=DATE:20241220
DTSTAMP:20260421T092915
CREATED:20241119T184819Z
LAST-MODIFIED:20241120T184822Z
UID:10000781-1734566400-1734652799@spscarlton.salemk12.org
SUMMARY:P1&P2 Concert Postponed to 2/6/25
DESCRIPTION:
URL:https://spscarlton.salemk12.org/event/p1p2-concert-postponed-to-2-6-25-3/
CATEGORIES:Carlton Innovation School
END:VEVENT
BEGIN:VEVENT
DTSTART;VALUE=DATE:20241219
DTEND;VALUE=DATE:20241220
DTSTAMP:20260421T092915
CREATED:20241118T173348Z
LAST-MODIFIED:20241118T184819Z
UID:10000776-1734566400-1734652799@spscarlton.salemk12.org
SUMMARY:P1&P2 Concert Postponed to 2/6/25
DESCRIPTION:
URL:https://spscarlton.salemk12.org/event/p1p2-concert-postponed-to-2-6-25/
CATEGORIES:Carlton Innovation School
END:VEVENT
BEGIN:VEVENT
DTSTART;VALUE=DATE:20241219
DTEND;VALUE=DATE:20241220
DTSTAMP:20260421T092915
CREATED:20241118T173348Z
LAST-MODIFIED:20241219T190214Z
UID:10000777-1734566400-1734652799@spscarlton.salemk12.org
SUMMARY:P1&P2 Concert Postponed to 2/6/25
DESCRIPTION:
URL:https://spscarlton.salemk12.org/event/p1p2-concert-postponed-to-2-6-25-2/
CATEGORIES:Carlton Innovation School
END:VEVENT
BEGIN:VEVENT
DTSTART;VALUE=DATE:20241211
DTEND;VALUE=DATE:20241212
DTSTAMP:20260421T092915
CREATED:20240902T214737Z
LAST-MODIFIED:20241211T190220Z
UID:10000752-1733875200-1733961599@spscarlton.salemk12.org
SUMMARY:Caregiver Conferences
DESCRIPTION:By Appointment
URL:https://spscarlton.salemk12.org/event/caregiver-conferences/
CATEGORIES:Carlton Innovation School
END:VEVENT
BEGIN:VEVENT
DTSTART;VALUE=DATE:20241211
DTEND;VALUE=DATE:20241212
DTSTAMP:20260421T092915
CREATED:20240902T214737Z
LAST-MODIFIED:20241211T190220Z
UID:10000753-1733875200-1733961599@spscarlton.salemk12.org
SUMMARY:Early Release - 12:05 pm
DESCRIPTION:
URL:https://spscarlton.salemk12.org/event/early-release-1205-pm-2/
CATEGORIES:Carlton Innovation School
END:VEVENT
BEGIN:VEVENT
DTSTART;TZID=America/New_York:20241210T183000
DTEND;TZID=America/New_York:20241210T193000
DTSTAMP:20260421T092915
CREATED:20240311T181836Z
LAST-MODIFIED:20240807T204801Z
UID:10000716-1733855400-1733859000@spscarlton.salemk12.org
SUMMARY:Carlton PTO
DESCRIPTION:
URL:https://spscarlton.salemk12.org/event/carlton-pto-61/
CATEGORIES:Carlton Innovation School
END:VEVENT
BEGIN:VEVENT
DTSTART;VALUE=DATE:20241210
DTEND;VALUE=DATE:20241211
DTSTAMP:20260421T092915
CREATED:20240902T214737Z
LAST-MODIFIED:20241210T190219Z
UID:10000754-1733788800-1733875199@spscarlton.salemk12.org
SUMMARY:Caregiver Conferences
DESCRIPTION:By Appointment
URL:https://spscarlton.salemk12.org/event/caregiver-conferences-2/
CATEGORIES:Carlton Innovation School
END:VEVENT
BEGIN:VEVENT
DTSTART;VALUE=DATE:20241210
DTEND;VALUE=DATE:20241211
DTSTAMP:20260421T092915
CREATED:20240902T214737Z
LAST-MODIFIED:20241210T190219Z
UID:10000756-1733788800-1733875199@spscarlton.salemk12.org
SUMMARY:Early Release - 12:05 pm
DESCRIPTION:
URL:https://spscarlton.salemk12.org/event/early-release-1205-pm-3/
CATEGORIES:Carlton Innovation School
END:VEVENT
BEGIN:VEVENT
DTSTART;VALUE=DATE:20241203
DTEND;VALUE=DATE:20241204
DTSTAMP:20260421T092915
CREATED:20240903T220231Z
LAST-MODIFIED:20241203T190216Z
UID:10000762-1733184000-1733270399@spscarlton.salemk12.org
SUMMARY:School Picture Day - New/Absent (10/15) Students
DESCRIPTION:
URL:https://spscarlton.salemk12.org/event/school-picture-day-new-absent-10-15-students/
CATEGORIES:Carlton Innovation School
END:VEVENT
BEGIN:VEVENT
DTSTART;VALUE=DATE:20241129
DTEND;VALUE=DATE:20241130
DTSTAMP:20260421T092915
CREATED:20240902T214737Z
LAST-MODIFIED:20241129T190219Z
UID:10000751-1732838400-1732924799@spscarlton.salemk12.org
SUMMARY:No School
DESCRIPTION:
URL:https://spscarlton.salemk12.org/event/no-school-7/
CATEGORIES:Carlton Innovation School
END:VEVENT
BEGIN:VEVENT
DTSTART;VALUE=DATE:20241128
DTEND;VALUE=DATE:20241129
DTSTAMP:20260421T092915
CREATED:20240902T214737Z
LAST-MODIFIED:20241128T190219Z
UID:10000749-1732752000-1732838399@spscarlton.salemk12.org
SUMMARY:No School
DESCRIPTION:
URL:https://spscarlton.salemk12.org/event/no-school-6/
CATEGORIES:Carlton Innovation School
END:VEVENT
BEGIN:VEVENT
DTSTART;VALUE=DATE:20241127
DTEND;VALUE=DATE:20241128
DTSTAMP:20260421T092915
CREATED:20240902T214737Z
LAST-MODIFIED:20241127T190220Z
UID:10000750-1732665600-1732751999@spscarlton.salemk12.org
SUMMARY:Early Release - 12:05 pm
DESCRIPTION:Day Before Thanksgiving
URL:https://spscarlton.salemk12.org/event/early-release-1205-pm/
CATEGORIES:Carlton Innovation School
END:VEVENT
BEGIN:VEVENT
DTSTART;TZID=America/New_York:20241121T183000
DTEND;TZID=America/New_York:20241121T193000
DTSTAMP:20260421T092915
CREATED:20240212T214841Z
LAST-MODIFIED:20240513T213249Z
UID:10000518-1732213800-1732217400@spscarlton.salemk12.org
SUMMARY:Carlton PTO
DESCRIPTION:
URL:https://spscarlton.salemk12.org/event/carlton-pto-20/
CATEGORIES:Carlton Innovation School
END:VEVENT
BEGIN:VEVENT
DTSTART;VALUE=DATE:20241115
DTEND;VALUE=DATE:20241116
DTSTAMP:20260421T092915
CREATED:20240902T214737Z
LAST-MODIFIED:20241102T020218Z
UID:10000577-1731628800-1731715199@spscarlton.salemk12.org
SUMMARY:Transition Day
DESCRIPTION:
URL:https://spscarlton.salemk12.org/event/transition-day/
CATEGORIES:Carlton Innovation School
END:VEVENT
BEGIN:VEVENT
DTSTART;VALUE=DATE:20241115
DTEND;VALUE=DATE:20241116
DTSTAMP:20260421T092915
CREATED:20240902T214725Z
LAST-MODIFIED:20241102T020218Z
UID:10000576-1731628800-1731715199@spscarlton.salemk12.org
SUMMARY:Early Release - 12:05pm
DESCRIPTION:Staff Professional Development Day
URL:https://spscarlton.salemk12.org/event/early-release-1205pm-3/
CATEGORIES:Carlton Innovation School
END:VEVENT
BEGIN:VEVENT
DTSTART;TZID=America/New_York:20241112T183000
DTEND;TZID=America/New_York:20241112T193000
DTSTAMP:20260421T092915
CREATED:20240311T181836Z
LAST-MODIFIED:20240807T204801Z
UID:10000715-1731436200-1731439800@spscarlton.salemk12.org
SUMMARY:Carlton PTO
DESCRIPTION:
URL:https://spscarlton.salemk12.org/event/carlton-pto-60/
CATEGORIES:Carlton Innovation School
END:VEVENT
BEGIN:VEVENT
DTSTART;VALUE=DATE:20241111
DTEND;VALUE=DATE:20241112
DTSTAMP:20260421T092915
CREATED:20240902T214725Z
LAST-MODIFIED:20241102T020217Z
UID:10000575-1731283200-1731369599@spscarlton.salemk12.org
SUMMARY:No School - Holiday
DESCRIPTION:
URL:https://spscarlton.salemk12.org/event/no-school-holiday-3/
CATEGORIES:Carlton Innovation School
END:VEVENT
END:VCALENDAR