BEGIN:VCALENDAR
VERSION:2.0
PRODID:-//Carlton Innovation School - ECPv6.15.18//NONSGML v1.0//EN
CALSCALE:GREGORIAN
METHOD:PUBLISH
X-WR-CALNAME:Carlton Innovation School
X-ORIGINAL-URL:https://spscarlton.salemk12.org
X-WR-CALDESC:Events for Carlton Innovation School
REFRESH-INTERVAL;VALUE=DURATION:PT1H
X-Robots-Tag:noindex
X-PUBLISHED-TTL:PT1H
BEGIN:VTIMEZONE
TZID:America/New_York
BEGIN:DAYLIGHT
TZOFFSETFROM:-0500
TZOFFSETTO:-0400
TZNAME:EDT
DTSTART:20250309T070000
END:DAYLIGHT
BEGIN:STANDARD
TZOFFSETFROM:-0400
TZOFFSETTO:-0500
TZNAME:EST
DTSTART:20251102T060000
END:STANDARD
BEGIN:DAYLIGHT
TZOFFSETFROM:-0500
TZOFFSETTO:-0400
TZNAME:EDT
DTSTART:20260308T070000
END:DAYLIGHT
BEGIN:STANDARD
TZOFFSETFROM:-0400
TZOFFSETTO:-0500
TZNAME:EST
DTSTART:20261101T060000
END:STANDARD
BEGIN:DAYLIGHT
TZOFFSETFROM:-0500
TZOFFSETTO:-0400
TZNAME:EDT
DTSTART:20270314T070000
END:DAYLIGHT
BEGIN:STANDARD
TZOFFSETFROM:-0400
TZOFFSETTO:-0500
TZNAME:EST
DTSTART:20271107T060000
END:STANDARD
END:VTIMEZONE
BEGIN:VEVENT
DTSTART;VALUE=DATE:20260903
DTEND;VALUE=DATE:20260904
DTSTAMP:20260420T184940
CREATED:20260127T183216Z
LAST-MODIFIED:20260420T200203Z
UID:10000865-1788393600-1788479999@spscarlton.salemk12.org
SUMMARY:First Day of School (Grades 1-12)
DESCRIPTION:
URL:https://spscarlton.salemk12.org/event/first-day-of-school-grades-1-12/
CATEGORIES:Carlton Innovation School
END:VEVENT
BEGIN:VEVENT
DTSTART;VALUE=DATE:20260622
DTEND;VALUE=DATE:20260623
DTSTAMP:20260420T184940
CREATED:20260325T185446Z
LAST-MODIFIED:20260325T185446Z
UID:10000870-1782086400-1782172799@spscarlton.salemk12.org
SUMMARY:Last Day of School (Grades 1-5)
DESCRIPTION:
URL:https://spscarlton.salemk12.org/event/last-day-of-school-grades-1-5/
CATEGORIES:Carlton Innovation School
END:VEVENT
BEGIN:VEVENT
DTSTART;VALUE=DATE:20260616
DTEND;VALUE=DATE:20260617
DTSTAMP:20260420T184940
CREATED:20260325T185649Z
LAST-MODIFIED:20260325T185649Z
UID:10000871-1781568000-1781654399@spscarlton.salemk12.org
SUMMARY:Last Day of School (Kindergarten)
DESCRIPTION:
URL:https://spscarlton.salemk12.org/event/last-day-of-school-kindergarten/
CATEGORIES:Carlton Innovation School
END:VEVENT
BEGIN:VEVENT
DTSTART;VALUE=DATE:20260605
DTEND;VALUE=DATE:20260606
DTSTAMP:20260420T184940
CREATED:20250626T221829Z
LAST-MODIFIED:20260420T200203Z
UID:10000819-1780617600-1780703999@spscarlton.salemk12.org
SUMMARY:No School - Transition Meetings ONLY
DESCRIPTION:If a student has a transition meeting\, appointment times will be sent out by the homeroom teacher.  Transition meetings are for students AND caregivers.
URL:https://spscarlton.salemk12.org/event/no-school-transition-meetings-only/
CATEGORIES:Carlton Innovation School
END:VEVENT
BEGIN:VEVENT
DTSTART;VALUE=DATE:20260525
DTEND;VALUE=DATE:20260526
DTSTAMP:20260420T184940
CREATED:20250626T221829Z
LAST-MODIFIED:20260420T200203Z
UID:10000818-1779667200-1779753599@spscarlton.salemk12.org
SUMMARY:No School/Schools Closed
DESCRIPTION:
URL:https://spscarlton.salemk12.org/event/no-school-schools-closed-6/
CATEGORIES:Carlton Innovation School
END:VEVENT
BEGIN:VEVENT
DTSTART;VALUE=DATE:20260420
DTEND;VALUE=DATE:20260425
DTSTAMP:20260420T184940
CREATED:20250626T221829Z
LAST-MODIFIED:20260420T200202Z
UID:10000817-1776643200-1777075199@spscarlton.salemk12.org
SUMMARY:No School - April Break
DESCRIPTION:Monday\, April 20 ALL Buildings Closed
URL:https://spscarlton.salemk12.org/event/no-school-april-break/
CATEGORIES:Carlton Innovation School
END:VEVENT
BEGIN:VEVENT
DTSTART;VALUE=DATE:20260403
DTEND;VALUE=DATE:20260404
DTSTAMP:20260420T184940
CREATED:20250925T191841Z
LAST-MODIFIED:20260403T194706Z
UID:10000842-1775174400-1775260799@spscarlton.salemk12.org
SUMMARY:Good Friday
DESCRIPTION:
URL:https://spscarlton.salemk12.org/event/good-friday/
CATEGORIES:Carlton Innovation School
END:VEVENT
BEGIN:VEVENT
DTSTART;VALUE=DATE:20260401
DTEND;VALUE=DATE:20260410
DTSTAMP:20260420T184940
CREATED:20250925T191841Z
LAST-MODIFIED:20260409T194711Z
UID:10000841-1775001600-1775779199@spscarlton.salemk12.org
SUMMARY:Passover
DESCRIPTION:
URL:https://spscarlton.salemk12.org/event/passover/
CATEGORIES:Carlton Innovation School
END:VEVENT
BEGIN:VEVENT
DTSTART;VALUE=DATE:20260320
DTEND;VALUE=DATE:20260321
DTSTAMP:20260420T184940
CREATED:20250722T230241Z
LAST-MODIFIED:20260320T191704Z
UID:10000833-1773964800-1774051199@spscarlton.salemk12.org
SUMMARY:Teacher/Caregiver Conferences
DESCRIPTION:Conferences are by appointment only.  They are for Caregivers and Teachers.
URL:https://spscarlton.salemk12.org/event/teacher-caregiver-conferences-4/
CATEGORIES:Carlton Innovation School
END:VEVENT
BEGIN:VEVENT
DTSTART;VALUE=DATE:20260320
DTEND;VALUE=DATE:20260321
DTSTAMP:20260420T184940
CREATED:20250722T230241Z
LAST-MODIFIED:20260320T191703Z
UID:10000830-1773964800-1774051199@spscarlton.salemk12.org
SUMMARY:Early Release @ 11:55am
DESCRIPTION:
URL:https://spscarlton.salemk12.org/event/early-release-1155am-7/
CATEGORIES:Carlton Innovation School
END:VEVENT
BEGIN:VEVENT
DTSTART;VALUE=DATE:20260319
DTEND;VALUE=DATE:20260320
DTSTAMP:20260420T184940
CREATED:20250722T230241Z
LAST-MODIFIED:20260319T191705Z
UID:10000831-1773878400-1773964799@spscarlton.salemk12.org
SUMMARY:Transition Meetings
DESCRIPTION:If a student has a transition meeting\, appointment times will be sent out by the homeroom teacher.  Transition meetings are for students AND caregivers.
URL:https://spscarlton.salemk12.org/event/transition-meetings/
CATEGORIES:Carlton Innovation School
END:VEVENT
BEGIN:VEVENT
DTSTART;VALUE=DATE:20260319
DTEND;VALUE=DATE:20260320
DTSTAMP:20260420T184940
CREATED:20250722T230241Z
LAST-MODIFIED:20260319T191705Z
UID:10000832-1773878400-1773964799@spscarlton.salemk12.org
SUMMARY:Teacher/Caregiver Conferences
DESCRIPTION:Conferences are by appointment only.  They are for Caregivers and Teachers.
URL:https://spscarlton.salemk12.org/event/teacher-caregiver-conferences-3/
CATEGORIES:Carlton Innovation School
END:VEVENT
BEGIN:VEVENT
DTSTART;VALUE=DATE:20260319
DTEND;VALUE=DATE:20260320
DTSTAMP:20260420T184940
CREATED:20250722T230241Z
LAST-MODIFIED:20260319T191705Z
UID:10000829-1773878400-1773964799@spscarlton.salemk12.org
SUMMARY:Early Release @ 11:55am
DESCRIPTION:
URL:https://spscarlton.salemk12.org/event/early-release-1155am-6/
CATEGORIES:Carlton Innovation School
END:VEVENT
BEGIN:VEVENT
DTSTART;TZID=America/New_York:20260314T110000
DTEND;TZID=America/New_York:20260314T140000
DTSTAMP:20260420T184940
CREATED:20260223T191709Z
LAST-MODIFIED:20260313T191706Z
UID:10000869-1773486000-1773496800@spscarlton.salemk12.org
SUMMARY:Design Day
DESCRIPTION:
URL:https://spscarlton.salemk12.org/event/design-day/
LOCATION:Collins Middle School\, 31 Highland Ave\, Salem\, MA\, United States
CATEGORIES:Carlton Innovation School
GEO:42.51474;-70.906061
X-APPLE-STRUCTURED-LOCATION;VALUE=URI;X-ADDRESS=Collins Middle School 31 Highland Ave Salem MA United States;X-APPLE-RADIUS=500;X-TITLE=31 Highland Ave:geo:-70.906061,42.51474
END:VEVENT
BEGIN:VEVENT
DTSTART;VALUE=DATE:20260309
DTEND;VALUE=DATE:20260314
DTSTAMP:20260420T184940
CREATED:20251024T203242Z
LAST-MODIFIED:20260313T191706Z
UID:10000848-1773014400-1773446399@spscarlton.salemk12.org
SUMMARY:Kindergarten School Tours by appointment
DESCRIPTION:To schedule an appointment call the main office at 978-740-1280.
URL:https://spscarlton.salemk12.org/event/kindergarten-school-tours-by-appointment/
LOCATION:10 Skerry Street\, Salem\, MA\, United States
CATEGORIES:Carlton Innovation School
GEO:42.512946;-70.904237
END:VEVENT
BEGIN:VEVENT
DTSTART;TZID=America/New_York:20260302T183000
DTEND;TZID=America/New_York:20260302T193000
DTSTAMP:20260420T184940
CREATED:20260223T191709Z
LAST-MODIFIED:20260302T191730Z
UID:10000868-1772476200-1772479800@spscarlton.salemk12.org
SUMMARY:In-Person Community Budget Forum
DESCRIPTION:
URL:https://spscarlton.salemk12.org/event/in-person-community-budget-forum/
LOCATION:Salem High School\, 77 Willson St\, Salem\, MA\, United States
CATEGORIES:Carlton Innovation School
GEO:42.506487;-70.905406
X-APPLE-STRUCTURED-LOCATION;VALUE=URI;X-ADDRESS=Salem High School 77 Willson St Salem MA United States;X-APPLE-RADIUS=500;X-TITLE=77 Willson St:geo:-70.905406,42.506487
END:VEVENT
BEGIN:VEVENT
DTSTART;VALUE=DATE:20260223
DTEND;VALUE=DATE:20260224
DTSTAMP:20260420T184940
CREATED:20260222T191749Z
LAST-MODIFIED:20260223T191709Z
UID:10000867-1771804800-1771891199@spscarlton.salemk12.org
SUMMARY:Snow Day - No School
DESCRIPTION:
URL:https://spscarlton.salemk12.org/event/snow-day-no-school/
CATEGORIES:Carlton Innovation School
END:VEVENT
BEGIN:VEVENT
DTSTART;VALUE=DATE:20260217
DTEND;VALUE=DATE:20260320
DTSTAMP:20260420T184940
CREATED:20250925T191841Z
LAST-MODIFIED:20260319T191706Z
UID:10000840-1771286400-1773964799@spscarlton.salemk12.org
SUMMARY:Ramadan
DESCRIPTION:
URL:https://spscarlton.salemk12.org/event/ramadan/
CATEGORIES:Carlton Innovation School
END:VEVENT
BEGIN:VEVENT
DTSTART;VALUE=DATE:20260216
DTEND;VALUE=DATE:20260221
DTSTAMP:20260420T184940
CREATED:20250626T221828Z
LAST-MODIFIED:20260220T191731Z
UID:10000816-1771200000-1771631999@spscarlton.salemk12.org
SUMMARY:No School - February Break
DESCRIPTION:Monday\, February 16 ALL Buildings Closed
URL:https://spscarlton.salemk12.org/event/no-school-february-break/
CATEGORIES:Carlton Innovation School
END:VEVENT
BEGIN:VEVENT
DTSTART;VALUE=DATE:20260213
DTEND;VALUE=DATE:20260214
DTSTAMP:20260420T184940
CREATED:20250626T221828Z
LAST-MODIFIED:20260213T184713Z
UID:10000815-1770940800-1771027199@spscarlton.salemk12.org
SUMMARY:No School - Staff Training Day
DESCRIPTION:
URL:https://spscarlton.salemk12.org/event/no-school-staff-training-day/
CATEGORIES:Carlton Innovation School
END:VEVENT
BEGIN:VEVENT
DTSTART;TZID=America/New_York:20260205T180000
DTEND;TZID=America/New_York:20260205T193000
DTSTAMP:20260420T184940
CREATED:20260113T234730Z
LAST-MODIFIED:20260205T184714Z
UID:10000864-1770314400-1770319800@spscarlton.salemk12.org
SUMMARY:Saltonstall Open House for Carlton Families
DESCRIPTION:
URL:https://spscarlton.salemk12.org/event/saltonstall-open-house-for-carlton-families/
LOCATION:211 Lafayette Street\, Salem\, MA\, United States
CATEGORIES:Carlton Innovation School
GEO:42.512946;-70.904237
END:VEVENT
BEGIN:VEVENT
DTSTART;TZID=America/New_York:20260128T180000
DTEND;TZID=America/New_York:20260128T193000
DTSTAMP:20260420T184940
CREATED:20251120T210231Z
LAST-MODIFIED:20260128T183315Z
UID:10000854-1769623200-1769628600@spscarlton.salemk12.org
SUMMARY:Early Education Virtual Town Hall
DESCRIPTION:Link to be added closer to the event.
URL:https://spscarlton.salemk12.org/event/early-education-virtual-town-hall-2/
CATEGORIES:Carlton Innovation School
END:VEVENT
BEGIN:VEVENT
DTSTART;TZID=America/New_York:20260128T180000
DTEND;TZID=America/New_York:20260128T193000
DTSTAMP:20260420T184940
CREATED:20251024T203230Z
LAST-MODIFIED:20251119T210228Z
UID:10000847-1769623200-1769628600@spscarlton.salemk12.org
SUMMARY:Early Education Virtual Town Hall
DESCRIPTION:Link to be added closer to the event.
URL:https://spscarlton.salemk12.org/event/early-education-virtual-town-hall/
CATEGORIES:Carlton Innovation School
END:VEVENT
BEGIN:VEVENT
DTSTART;VALUE=DATE:20260120
DTEND;VALUE=DATE:20260124
DTSTAMP:20260420T184940
CREATED:20251024T203230Z
LAST-MODIFIED:20260123T181751Z
UID:10000846-1768867200-1769212799@spscarlton.salemk12.org
SUMMARY:Kindergarten Tours by appointment
DESCRIPTION:To schedule an appointment\, please call Arabelis @ 781-771-7902.
URL:https://spscarlton.salemk12.org/event/kindergarten-tours-by-appointment/
LOCATION:10 Skerry Street\, Salem\, MA\, United States
CATEGORIES:Carlton Innovation School
GEO:42.512946;-70.904237
END:VEVENT
BEGIN:VEVENT
DTSTART;VALUE=DATE:20260119
DTEND;VALUE=DATE:20260120
DTSTAMP:20260420T184940
CREATED:20250626T221817Z
LAST-MODIFIED:20260119T234718Z
UID:10000814-1768780800-1768867199@spscarlton.salemk12.org
SUMMARY:No School/Schools Closed
DESCRIPTION:
URL:https://spscarlton.salemk12.org/event/no-school-schools-closed-5/
CATEGORIES:Carlton Innovation School
END:VEVENT
BEGIN:VEVENT
DTSTART;TZID=America/New_York:20260116T180000
DTEND;TZID=America/New_York:20260116T193000
DTSTAMP:20260420T184940
CREATED:20260107T233204Z
LAST-MODIFIED:20260116T234715Z
UID:10000863-1768586400-1768591800@spscarlton.salemk12.org
SUMMARY:Glow Dance
DESCRIPTION:
URL:https://spscarlton.salemk12.org/event/glow-dance/
LOCATION:Carlton Innovation School\, 10 Skerry St\, Salem\, MA\, United States
CATEGORIES:Carlton Innovation School
GEO:42.531139;-70.889834
X-APPLE-STRUCTURED-LOCATION;VALUE=URI;X-ADDRESS=Carlton Innovation School 10 Skerry St Salem MA United States;X-APPLE-RADIUS=500;X-TITLE=10 Skerry St:geo:-70.889834,42.531139
END:VEVENT
BEGIN:VEVENT
DTSTART;TZID=America/New_York:20260115T190000
DTEND;TZID=America/New_York:20260115T200000
DTSTAMP:20260420T184940
CREATED:20260107T233204Z
LAST-MODIFIED:20260115T234706Z
UID:10000862-1768503600-1768507200@spscarlton.salemk12.org
SUMMARY:Beginner (4th Grade) All City Band and Orchestra Concert
DESCRIPTION:https://cdn.smore.com/u/319d/3bae3c4c57305e85171e9fb6a18423b2.jpeg
URL:https://spscarlton.salemk12.org/event/beginner-4th-grade-all-city-band-and-orchestra-concert/
LOCATION:SHS Auditorium
CATEGORIES:Carlton Innovation School
END:VEVENT
BEGIN:VEVENT
DTSTART;TZID=America/New_York:20260114T190000
DTEND;TZID=America/New_York:20260114T200000
DTSTAMP:20260420T184940
CREATED:20260107T233203Z
LAST-MODIFIED:20260114T234710Z
UID:10000861-1768417200-1768420800@spscarlton.salemk12.org
SUMMARY:FREE WEBINAR | Helping Kids Handle Big Feelings
DESCRIPTION:https://cartwheelcare.zoom.us/webinar/register/WN_TGMHRPJgSuquXEZeZVsXkw#/registration?utm_source=Hubspot&utm_medium=promo-toolkit&utm_campaign=familywebinarjan&utm_content=mpocemail1
URL:https://spscarlton.salemk12.org/event/free-webinar-helping-kids-handle-big-feelings/
CATEGORIES:Carlton Innovation School
END:VEVENT
BEGIN:VEVENT
DTSTART;TZID=America/New_York:20260114T173000
DTEND;TZID=America/New_York:20260114T190000
DTSTAMP:20260420T184940
CREATED:20251024T203230Z
LAST-MODIFIED:20260114T234710Z
UID:10000845-1768411800-1768417200@spscarlton.salemk12.org
SUMMARY:Early Education Expo
DESCRIPTION:Snow day is January `15\, 2026
URL:https://spscarlton.salemk12.org/event/early-education-expo/
LOCATION:Collins Middle School – 29 Highland Ave.\, Salem\, MA\, United States
CATEGORIES:Carlton Innovation School
GEO:42.512946;-70.904237
END:VEVENT
BEGIN:VEVENT
DTSTART;TZID=America/New_York:20260114T134500
DTEND;TZID=America/New_York:20260114T143000
DTSTAMP:20260420T184940
CREATED:20260107T233203Z
LAST-MODIFIED:20260113T234718Z
UID:10000860-1768398300-1768401000@spscarlton.salemk12.org
SUMMARY:Instrumental Concert
DESCRIPTION:
URL:https://spscarlton.salemk12.org/event/instrumental-concert-2/
CATEGORIES:Carlton Innovation School
END:VEVENT
END:VCALENDAR